BEGIN:VCALENDAR
VERSION:2.0
PRODID:-//Northside Hospital | Careers - ECPv6.15.12.2//NONSGML v1.0//EN
CALSCALE:GREGORIAN
METHOD:PUBLISH
X-WR-CALNAME:Northside Hospital | Careers
X-ORIGINAL-URL:https://northside.site.findly.com
X-WR-CALDESC:Events for Northside Hospital | Careers
REFRESH-INTERVAL;VALUE=DURATION:PT1H
X-Robots-Tag:noindex
X-PUBLISHED-TTL:PT1H
BEGIN:VTIMEZONE
TZID:UTC
BEGIN:STANDARD
TZOFFSETFROM:+0000
TZOFFSETTO:+0000
TZNAME:UTC
DTSTART:20220101T000000
END:STANDARD
END:VTIMEZONE
BEGIN:VEVENT
DTSTART;TZID=UTC:20230518T160000
DTEND;TZID=UTC:20230518T190000
DTSTAMP:20260426T025739
CREATED:20230331T094128Z
LAST-MODIFIED:20230509T161650Z
UID:16804-1684425600-1684436400@northside.site.findly.com
SUMMARY:Northside Radiology Event
DESCRIPTION:LOOKING FOR MORE OPTIONS IN YOUR IMAGING CAREER?\nLOOK TO NORTHSIDE.\n\n\n\n\n\nNorthside Radiology Event \nThursday\, May 18 | 4 – 7 p.m.\nThe Cape\n700 Avalon Blvd.\nAlpharetta\, GA 30009 \nRadiology Professionals\, join us for a Hiring Event on May 4. We have open roles for Radiology Techs\, CT Techs\, Mammography Techs\, MRI Techs\, and Ultrasound Techs at our Atlanta\, Cherokee\, Forsyth\, and Gwinnett locations. Make a real difference in the lives of our patients and provide excellent care. You can work with various areas of the hospital and cross-train in different modalities. By joining Northside’s team\, you’ll enjoy… \n• Excellent benefits\n• Work-life balance\n• A strong culture of caring \nWe look forward to meeting you! \n\nRSVP Here!
URL:https://northside.site.findly.com/event/northside-radiology-event/
CATEGORIES:Nurse Events
END:VEVENT
END:VCALENDAR