BEGIN:VCALENDAR
VERSION:2.0
PRODID:-//Northside Hospital | Careers - ECPv6.15.12.2//NONSGML v1.0//EN
CALSCALE:GREGORIAN
METHOD:PUBLISH
X-WR-CALNAME:Northside Hospital | Careers
X-ORIGINAL-URL:https://northside.site.findly.com
X-WR-CALDESC:Events for Northside Hospital | Careers
REFRESH-INTERVAL;VALUE=DURATION:PT1H
X-Robots-Tag:noindex
X-PUBLISHED-TTL:PT1H
BEGIN:VTIMEZONE
TZID:UTC
BEGIN:STANDARD
TZOFFSETFROM:+0000
TZOFFSETTO:+0000
TZNAME:UTC
DTSTART:20230101T000000
END:STANDARD
END:VTIMEZONE
BEGIN:VEVENT
DTSTART;VALUE=DATE:20240722
DTEND;VALUE=DATE:20240725
DTSTAMP:20260426T005811
CREATED:20240517T192846Z
LAST-MODIFIED:20240606T185513Z
UID:18507-1721606400-1721865599@northside.site.findly.com
SUMMARY:Nurse Extern Excellence Program Event
DESCRIPTION:Nurse Extern Excellence Program Event\n\n\n\n\n\nMonday\, July 22\, to Wednesday\, July 24\, 2024 \nJoin us for an exciting three-day event that will give you the exclusive opportunity to tour the campus of your choice! Our event is open to all current nursing students\, including those who will start nursing school in Fall 2024. \nEVENT HIGHLIGHTS \n· Program Road Map/Overview from our nurse leaders\n· Q&A with current nurse externs and nurse residents\n· Braves game Private Reception with current externs\, nurses\, and mentors\n· Guaranteed Senior Practicum and Nurse Extern positions\n· Early Nurse Residency offers\n· Free parking\, Northside swag and food are also provided! \nTHE NORTHSIDE ADVANTAGES \n· State-of-the-art environment\n· Commitment to positive work/life balance\n· Strong local/national reputation for excellence\n· Highly competitive compensation packages\n· Pension plan and 403b retirement plan with employer match\n· Tuition and certification reimbursement\n· Continuing education and ongoing growth opportunities\n· Loan forgiveness program\n· And much more! \n\nRSVP by July 15th!
URL:https://northside.site.findly.com/event/nurse-extern-excellence-program-event/
CATEGORIES:Nurse Events 2
END:VEVENT
END:VCALENDAR