BEGIN:VCALENDAR
VERSION:2.0
PRODID:-//Northside Hospital | Careers - ECPv6.15.12.2//NONSGML v1.0//EN
CALSCALE:GREGORIAN
METHOD:PUBLISH
X-WR-CALNAME:Northside Hospital | Careers
X-ORIGINAL-URL:https://northside.site.findly.com
X-WR-CALDESC:Events for Northside Hospital | Careers
REFRESH-INTERVAL;VALUE=DURATION:PT1H
X-Robots-Tag:noindex
X-PUBLISHED-TTL:PT1H
BEGIN:VTIMEZONE
TZID:UTC
BEGIN:STANDARD
TZOFFSETFROM:+0000
TZOFFSETTO:+0000
TZNAME:UTC
DTSTART:20210101T000000
END:STANDARD
END:VTIMEZONE
BEGIN:VEVENT
DTSTART;TZID=UTC:20220712T113000
DTEND;TZID=UTC:20220712T170000
DTSTAMP:20260426T025531
CREATED:20220628T114749Z
LAST-MODIFIED:20220628T114749Z
UID:14994-1657625400-1657645200@northside.site.findly.com
SUMMARY:Open up a world of nursing career options.
DESCRIPTION:Open up a world of nursing career options\n\n\n\n\n\n\nAcute Care RN Residency Hiring Events \n\nAtlanta\nTuesday\, July 12\, 2022\n11:30am – 5:00pm\nNorthside Hospital\n1000 Johnson Ferry Road\nAtlanta\, GA 30342\n\n\nFor openings in:\n• General Medicine\n• Med/Surg\n• Med Surg/Cardiology\n• Neurology\n• Ortho/Neuro\n• Pulmonary/GI/Older Adult\n• Med Surg/Cardiology\n \n\nForsyth\nTuesday\, July 19\, 2022\n11:00am – 4:00pm\nNorthside Hospital\n1200 Northside Forsyth Drive\nCumming\, GA 30041\n\n\nFor openings in:\n• General Medicine\n• General Surgery\n• Med Surg/Cardiology\n• Med Surg/Pulmonary/GI/Older Adult\n• Neurology\n• Ortho/Neuro\n \nBusiness Casual – Free Parking\n*Due to high interest in these events\, you will be assigned a time slot based on availability. \nEnhance your skills\, advance your career! \nRSVP by emailing a copy of your resume to K’Lia Hayes at Klia.Hayes@northside.com
URL:https://northside.site.findly.com/event/open-up-a-world-of-nursing-career-options-2/2022-07-12/
CATEGORIES:Nurse Events 1
END:VEVENT
END:VCALENDAR