BEGIN:VCALENDAR
VERSION:2.0
PRODID:-//Northside Hospital | Careers - ECPv6.15.12.2//NONSGML v1.0//EN
CALSCALE:GREGORIAN
METHOD:PUBLISH
X-WR-CALNAME:Northside Hospital | Careers
X-ORIGINAL-URL:https://northside.site.findly.com
X-WR-CALDESC:Events for Northside Hospital | Careers
REFRESH-INTERVAL;VALUE=DURATION:PT1H
X-Robots-Tag:noindex
X-PUBLISHED-TTL:PT1H
BEGIN:VTIMEZONE
TZID:UTC
BEGIN:STANDARD
TZOFFSETFROM:+0000
TZOFFSETTO:+0000
TZNAME:UTC
DTSTART:20220101T000000
END:STANDARD
END:VTIMEZONE
BEGIN:VEVENT
DTSTART;TZID=UTC:20230614T100000
DTEND;TZID=UTC:20230614T140000
DTSTAMP:20260426T011559
CREATED:20230601T052203Z
LAST-MODIFIED:20230601T052203Z
UID:16985-1686736800-1686751200@northside.site.findly.com
SUMMARY:Participate in Our Environmental Services (EVS) Job Fair
DESCRIPTION:FOR A REWARDING CAREER\nLOOK TO NORTHSIDE\n\n\n\n\n\n\nEnvironmental Services (EVS) Job Fair \nWednesday\, June 14 | 10 a.m. – 2 p.m.\nFairfield Inn & Suites\n120 Reinhardt College Parkway\nCanton\, GA 30114 \nEnvironmental Services (EVS) Techs\, join us for a Job Fair on June 14th to learn more about the role. We have openings at our Cherokee location\, and day\, evening\, and night shifts are available. Help our team deliver exceptional patient care and create a positive patient experience. \nBy joining Northside’s team\, you’ll enjoy…\n \n• Excellent benefits\n• Work-life balance\n• A strong culture of caring \nWe look forward to meeting you! \n\nRSVP Now!
URL:https://northside.site.findly.com/event/participate-in-our-environmental-services-evs-job-fair/
CATEGORIES:Non-Clinical
END:VEVENT
END:VCALENDAR