BEGIN:VCALENDAR
VERSION:2.0
PRODID:-//Northside Hospital | Careers - ECPv6.15.12.2//NONSGML v1.0//EN
CALSCALE:GREGORIAN
METHOD:PUBLISH
X-WR-CALNAME:Northside Hospital | Careers
X-ORIGINAL-URL:https://northside.site.findly.com
X-WR-CALDESC:Events for Northside Hospital | Careers
REFRESH-INTERVAL;VALUE=DURATION:PT1H
X-Robots-Tag:noindex
X-PUBLISHED-TTL:PT1H
BEGIN:VTIMEZONE
TZID:UTC
BEGIN:STANDARD
TZOFFSETFROM:+0000
TZOFFSETTO:+0000
TZNAME:UTC
DTSTART:20200101T000000
END:STANDARD
END:VTIMEZONE
BEGIN:VEVENT
DTSTART;TZID=UTC:20210813T080000
DTEND;TZID=UTC:20210813T160000
DTSTAMP:20260426T011356
CREATED:20210722T102325Z
LAST-MODIFIED:20210722T102325Z
UID:11565-1628841600-1628870400@northside.site.findly.com
SUMMARY:Patient Care Technician Hiring Event
DESCRIPTION:Patient Care Technician Hiring Event\n\n\n\n\n\nOur patient care is second to none!\nYour caring makes all the difference!  \nPatient Care Technician Hiring Event\nAugust 6th\, 13th and 27th\n8:00am-4:00pm\nNorthside Hospital Cherokee Campus\n450 Northside Cherokee Blvd.\nCanton\, GA 30115 \nLooking to have a positive impact on other’s lives? Discover rewarding careers for Patient Care Technicians with\nAtlanta’s most-preferred hospital. We have openings for experienced PCTs as as a PCT Residency Program to prepare those new to this exciting role.  \nContact Rosia at Christina.Rosia@northside.com or apply online to requisition #116933.
URL:https://northside.site.findly.com/event/patient-care-technician-hiring-event-2/
LOCATION:Northside Cherokee Campus \, 450 Northside Cherokee Blvd.\, Canton\, GA\, 30115\, United States
CATEGORIES:Nurse Events 2
END:VEVENT
END:VCALENDAR