BEGIN:VCALENDAR
VERSION:2.0
PRODID:-//Northside Hospital | Careers - ECPv6.15.12.2//NONSGML v1.0//EN
CALSCALE:GREGORIAN
METHOD:PUBLISH
X-WR-CALNAME:Northside Hospital | Careers
X-ORIGINAL-URL:https://northside.site.findly.com
X-WR-CALDESC:Events for Northside Hospital | Careers
REFRESH-INTERVAL;VALUE=DURATION:PT1H
X-Robots-Tag:noindex
X-PUBLISHED-TTL:PT1H
BEGIN:VTIMEZONE
TZID:America/Halifax
BEGIN:DAYLIGHT
TZOFFSETFROM:-0400
TZOFFSETTO:-0300
TZNAME:ADT
DTSTART:20210314T060000
END:DAYLIGHT
BEGIN:STANDARD
TZOFFSETFROM:-0300
TZOFFSETTO:-0400
TZNAME:AST
DTSTART:20211107T050000
END:STANDARD
BEGIN:DAYLIGHT
TZOFFSETFROM:-0400
TZOFFSETTO:-0300
TZNAME:ADT
DTSTART:20220313T060000
END:DAYLIGHT
BEGIN:STANDARD
TZOFFSETFROM:-0300
TZOFFSETTO:-0400
TZNAME:AST
DTSTART:20221106T050000
END:STANDARD
BEGIN:DAYLIGHT
TZOFFSETFROM:-0400
TZOFFSETTO:-0300
TZNAME:ADT
DTSTART:20230312T060000
END:DAYLIGHT
BEGIN:STANDARD
TZOFFSETFROM:-0300
TZOFFSETTO:-0400
TZNAME:AST
DTSTART:20231105T050000
END:STANDARD
END:VTIMEZONE
BEGIN:VEVENT
DTSTART;TZID=America/Halifax:20220503T113000
DTEND;TZID=America/Halifax:20220503T130000
DTSTAMP:20260426T031003
CREATED:20220418T111622Z
LAST-MODIFIED:20220428T070554Z
UID:14400-1651577400-1651582800@northside.site.findly.com
SUMMARY:Radiologic Technologist Careers Play a key role in advancing world-class care.
DESCRIPTION:Radiological Technologist Virtual Hiring Event\n\n\n\n\n\nTuesday\, May 3rd\n11:30am – 1:00pm\nZoom link will be sent on May 2nd \n\nMake the most of your unique clinical abilities and technical expertise while making a positive impact on others’ lives. Join us as a Radiologic Technologist at one of these facilities: \n• Atlanta – Midtown\n• Cumming\n• Dawsonville\n• Gainesville\n• Lawrenceville\n• Sandy Springs – Inpatient \nRSVP TODAY
URL:https://northside.site.findly.com/event/radiologic-technologist-careers-play-a-key-role-in-advancing-world-class-care-2/
CATEGORIES:Nurse Events 2
END:VEVENT
END:VCALENDAR