BEGIN:VCALENDAR
VERSION:2.0
PRODID:-//Northside Hospital | Careers - ECPv6.15.12.2//NONSGML v1.0//EN
CALSCALE:GREGORIAN
METHOD:PUBLISH
X-WR-CALNAME:Northside Hospital | Careers
X-ORIGINAL-URL:https://northside.site.findly.com
X-WR-CALDESC:Events for Northside Hospital | Careers
REFRESH-INTERVAL;VALUE=DURATION:PT1H
X-Robots-Tag:noindex
X-PUBLISHED-TTL:PT1H
BEGIN:VTIMEZONE
TZID:UTC
BEGIN:STANDARD
TZOFFSETFROM:+0000
TZOFFSETTO:+0000
TZNAME:UTC
DTSTART:20240101T000000
END:STANDARD
END:VTIMEZONE
BEGIN:VEVENT
DTSTART;TZID=UTC:20250327T160000
DTEND;TZID=UTC:20250327T190000
DTSTAMP:20260425T013119
CREATED:20250218T091053Z
LAST-MODIFIED:20250218T091053Z
UID:19690-1743091200-1743102000@northside.site.findly.com
SUMMARY:Radiology and Respiratory Cherokee Event March 27th
DESCRIPTION:Cherokee Networking Event for Radiology & Respiratory\n\n\n\n\n\nLOOK TO NORTHSIDE\nExpand Your Horizons \nPursue your goals and realize your ambitions at Northside Hospital Cherokee. Come find out where our career paths can take you. Join us for on-the-spot interviews and offers for Radiology Techs (All Modalities) and Respiratory Therapists. Respiratory students also welcome to attend. \n\nRegister for our event now. \nRegister Here
URL:https://northside.site.findly.com/event/radiology-and-respiratory-cherokee-event-march-27th/
CATEGORIES:Non Clinical 1
END:VEVENT
END:VCALENDAR