BEGIN:VCALENDAR
VERSION:2.0
PRODID:-//Northside Hospital | Careers - ECPv6.15.12.2//NONSGML v1.0//EN
CALSCALE:GREGORIAN
METHOD:PUBLISH
X-WR-CALNAME:Northside Hospital | Careers
X-ORIGINAL-URL:https://northside.site.findly.com
X-WR-CALDESC:Events for Northside Hospital | Careers
REFRESH-INTERVAL;VALUE=DURATION:PT1H
X-Robots-Tag:noindex
X-PUBLISHED-TTL:PT1H
BEGIN:VTIMEZONE
TZID:America/New_York
BEGIN:DAYLIGHT
TZOFFSETFROM:-0500
TZOFFSETTO:-0400
TZNAME:EDT
DTSTART:20210314T070000
END:DAYLIGHT
BEGIN:STANDARD
TZOFFSETFROM:-0400
TZOFFSETTO:-0500
TZNAME:EST
DTSTART:20211107T060000
END:STANDARD
BEGIN:DAYLIGHT
TZOFFSETFROM:-0500
TZOFFSETTO:-0400
TZNAME:EDT
DTSTART:20220313T070000
END:DAYLIGHT
BEGIN:STANDARD
TZOFFSETFROM:-0400
TZOFFSETTO:-0500
TZNAME:EST
DTSTART:20221106T060000
END:STANDARD
BEGIN:DAYLIGHT
TZOFFSETFROM:-0500
TZOFFSETTO:-0400
TZNAME:EDT
DTSTART:20230312T070000
END:DAYLIGHT
BEGIN:STANDARD
TZOFFSETFROM:-0400
TZOFFSETTO:-0500
TZNAME:EST
DTSTART:20231105T060000
END:STANDARD
END:VTIMEZONE
BEGIN:VEVENT
DTSTART;VALUE=DATE:20220620
DTEND;VALUE=DATE:20220621
DTSTAMP:20260426T011330
CREATED:20220513T183016Z
LAST-MODIFIED:20220520T014009Z
UID:14628-1655683200-1655769599@northside.site.findly.com
SUMMARY:RN Recruitment Event
DESCRIPTION:RN Recruitment Event\n\n\n\n\n\nKnock your career goals out of the park as a nurse at Northside Hospital!\nRN Recruitment Event @ The Braves Game \nMonday\, June 20th | Starting at 4:30 pm\nTruist Park\n755 Battery Ave\, SE\nAtlanta\, GA 30339\nMeet us in the Konica Minolta Conference Room\nFood drinks and parking are included. \nEnjoy an exciting ball game and check out our openings for experienced Staff RNs\, Nurse Supervisors\, and Nurse Educators in these areas:\n\n• Medical-Surgical – Atlanta\, Cherokee\, Duluth\, Forsyth\, Lawrenceville\n• Oncology – Atlanta\, Cherokee\, Forsyth\, Lawrenceville\n• Bone Marrow Transplant – Atlanta\n• Infusion – Atlanta\n• GI Lab – Atlanta\, Cherokee\, Forsyth\n• Extended Recovery Unit – Atlanta\, Cherokee\, Forsyth\n• Surgical Services – Atlanta\, Cherokee\, Duluth\, Forsyth\, Lawrenceville\, Outpatient\n• Women’s Nursing – Atlanta\, Lawrenceville\n \nClick here to RSVP
URL:https://northside.site.findly.com/event/rn-recruitment-event/
CATEGORIES:Nurse Events 4
END:VEVENT
END:VCALENDAR