BEGIN:VCALENDAR
VERSION:2.0
PRODID:-//Northside Hospital | Careers - ECPv6.15.12.2//NONSGML v1.0//EN
CALSCALE:GREGORIAN
METHOD:PUBLISH
X-WR-CALNAME:Northside Hospital | Careers
X-ORIGINAL-URL:https://northside.site.findly.com
X-WR-CALDESC:Events for Northside Hospital | Careers
REFRESH-INTERVAL;VALUE=DURATION:PT1H
X-Robots-Tag:noindex
X-PUBLISHED-TTL:PT1H
BEGIN:VTIMEZONE
TZID:UTC
BEGIN:STANDARD
TZOFFSETFROM:+0000
TZOFFSETTO:+0000
TZNAME:UTC
DTSTART:20200101T000000
END:STANDARD
END:VTIMEZONE
BEGIN:VEVENT
DTSTART;TZID=UTC:20211007T160000
DTEND;TZID=UTC:20211007T190000
DTSTAMP:20260426T005848
CREATED:20210928T141546Z
LAST-MODIFIED:20210928T141546Z
UID:12509-1633622400-1633633200@northside.site.findly.com
SUMMARY:RN & Respiratory Therapist Hiring Event
DESCRIPTION:RN & Respiratory Therapist Hiring Event\n\n\n\n\n\nDiscover a more rewarding career! \nRN & Respiratory Therapist Hiring Event\nThursday\, October 7 | 4:00pm – 7:00pm\nNorthside Hospital Forsyth Women’s Atrium\n1800 Northside Forsyth Drive\nCumming\, GA 30041 \nRSVP to kendall.futch@northside.com \nReady to take your clinical career in an exciting new direction? Our Forsyth campus is growing to meet the ever-changing healthcare needs of our dynamic Cumming\, GA community. Join us at Northside Hospital Forsyth Women’s Atrium for our in-person career event\, meet directly with hiring managers\, explore our careers\, and see the many advantages to a career with Northside.
URL:https://northside.site.findly.com/event/rn-respiratory-therapist-hiring-event/
CATEGORIES:Non-Clinical,Nurse Events,Nurse Events 5
END:VEVENT
END:VCALENDAR