BEGIN:VCALENDAR
VERSION:2.0
PRODID:-//Northside Hospital | Careers - ECPv6.15.12.2//NONSGML v1.0//EN
CALSCALE:GREGORIAN
METHOD:PUBLISH
X-WR-CALNAME:Northside Hospital | Careers
X-ORIGINAL-URL:https://northside.site.findly.com
X-WR-CALDESC:Events for Northside Hospital | Careers
REFRESH-INTERVAL;VALUE=DURATION:PT1H
X-Robots-Tag:noindex
X-PUBLISHED-TTL:PT1H
BEGIN:VTIMEZONE
TZID:UTC
BEGIN:STANDARD
TZOFFSETFROM:+0000
TZOFFSETTO:+0000
TZNAME:UTC
DTSTART:20210101T000000
END:STANDARD
END:VTIMEZONE
BEGIN:VEVENT
DTSTART;TZID=UTC:20220413T100000
DTEND;TZID=UTC:20220413T140000
DTSTAMP:20260426T011350
CREATED:20220329T170149Z
LAST-MODIFIED:20220330T005521Z
UID:14225-1649844000-1649858400@northside.site.findly.com
SUMMARY:Security and Food Services Hiring Event
DESCRIPTION:Security and Food Services Hiring Event\n\n\n\n\n\nMake a positive impact in other’s lives.\nExplore food services and security careers! \nApril 13\, 2022\n10:00am-2:00pm\nCourtyard by Marriott – Cartersville\n5460 GA-2\nCartersville\, GA 30121 \nLooking for greater purpose and fulfillment in your career? At Northside Hospital\, it takes exceptional people in a wide variety of roles to make our high-quality care happen. Join us and connect with a great food service or security opportunity at our Cherokee location. \nRSVP by emailing a copy of your resume to: Gianna.Fuller@northside.com
URL:https://northside.site.findly.com/event/security-and-food-services-hiring-event/
CATEGORIES:Non-Clinical
END:VEVENT
END:VCALENDAR