BEGIN:VCALENDAR
VERSION:2.0
PRODID:-//Northside Hospital | Careers - ECPv6.15.12.2//NONSGML v1.0//EN
CALSCALE:GREGORIAN
METHOD:PUBLISH
X-WR-CALNAME:Northside Hospital | Careers
X-ORIGINAL-URL:https://northside.site.findly.com
X-WR-CALDESC:Events for Northside Hospital | Careers
REFRESH-INTERVAL;VALUE=DURATION:PT1H
X-Robots-Tag:noindex
X-PUBLISHED-TTL:PT1H
BEGIN:VTIMEZONE
TZID:UTC
BEGIN:STANDARD
TZOFFSETFROM:+0000
TZOFFSETTO:+0000
TZNAME:UTC
DTSTART:20230101T000000
END:STANDARD
END:VTIMEZONE
BEGIN:VEVENT
DTSTART;TZID=UTC:20240416T160000
DTEND;TZID=UTC:20240416T190000
DTSTAMP:20260425T122605
CREATED:20240325T092726Z
LAST-MODIFIED:20240325T092726Z
UID:18289-1713283200-1713294000@northside.site.findly.com
SUMMARY:Surgical Services: Gwinnett/Duluth Hiring Event
DESCRIPTION:Surgical Services: Gwinnett/Duluth Hiring Event\n\n\n\n\n\nTo expand your career\nLOOK TO NORTHSIDE\n \nTuesday\, April 16th @ 4:00 – 7:00 p.m. \nSurgical Techs\, RNs\, Instrument Techs\, and Support Techs\, join us for our\nGwinnett/Duluth Hiring Event! You can become part of a premier\, technologically\nadvanced healthcare system with a workplace culture that empowers excellent work. \n\nRSVP Today! We look forward to meeting you.
URL:https://northside.site.findly.com/event/surgical-services-gwinnett-duluth-hiring-event/
CATEGORIES:Nurse Events 5
END:VEVENT
END:VCALENDAR