BEGIN:VCALENDAR
VERSION:2.0
PRODID:-//Northside Hospital | Careers - ECPv6.15.12.2//NONSGML v1.0//EN
CALSCALE:GREGORIAN
METHOD:PUBLISH
X-WR-CALNAME:Northside Hospital | Careers
X-ORIGINAL-URL:https://northside.site.findly.com
X-WR-CALDESC:Events for Northside Hospital | Careers
REFRESH-INTERVAL;VALUE=DURATION:PT1H
X-Robots-Tag:noindex
X-PUBLISHED-TTL:PT1H
BEGIN:VTIMEZONE
TZID:UTC
BEGIN:STANDARD
TZOFFSETFROM:+0000
TZOFFSETTO:+0000
TZNAME:UTC
DTSTART:20220101T000000
END:STANDARD
END:VTIMEZONE
BEGIN:VEVENT
DTSTART;TZID=UTC:20230621T160000
DTEND;TZID=UTC:20230621T190000
DTSTAMP:20260426T025753
CREATED:20230612T093003Z
LAST-MODIFIED:20230612T093029Z
UID:16988-1687363200-1687374000@northside.site.findly.com
SUMMARY:Surgical Services Hiring Event
DESCRIPTION:ELEVATE SURGICAL CARE\nLOOK TO NORTHSIDE\n\n\n\n\n\nSurgical Tech Hiring Event \n\nWednesday\, June 21 | 4 p.m. – 7 p.m.\nGood Word Brewing & Public House\n3085 Main St.\nDuluth\, GA 30096\n \nSurgical Professionals\, join us on June 21 for a Hiring Event. We have roles for:\n• RNs\n• Surgical Techs\n• Instrument Techs\n• Support Techs\n• Anesthesia Techs \nWe have opportunities at our Duluth location\, where there is a focused OR experience without the chaos. Various shifts are available. Grow your career as part of our team\, where you can fulfill your purpose and answer your calling. You’ll get to know your surgeons and coworkers and become a cohesive unit providing the best patient care. Expand your skillset and become proficient in a variety of areas. \nYou’ll also enjoy…\n• Excellent benefits\n• Work-life balance\n• A strong culture of caring \nWe look forward to meeting you! \n\nRSVP Now!
URL:https://northside.site.findly.com/event/surgical-services-hiring-event-2/
CATEGORIES:Nurse Events 1
END:VEVENT
END:VCALENDAR