BEGIN:VCALENDAR
VERSION:2.0
PRODID:-//Northside Hospital | Careers - ECPv6.15.12.2//NONSGML v1.0//EN
CALSCALE:GREGORIAN
METHOD:PUBLISH
X-WR-CALNAME:Northside Hospital | Careers
X-ORIGINAL-URL:https://northside.site.findly.com
X-WR-CALDESC:Events for Northside Hospital | Careers
REFRESH-INTERVAL;VALUE=DURATION:PT1H
X-Robots-Tag:noindex
X-PUBLISHED-TTL:PT1H
BEGIN:VTIMEZONE
TZID:UTC
BEGIN:STANDARD
TZOFFSETFROM:+0000
TZOFFSETTO:+0000
TZNAME:UTC
DTSTART:20230101T000000
END:STANDARD
END:VTIMEZONE
BEGIN:VEVENT
DTSTART;TZID=UTC:20240918T160000
DTEND;TZID=UTC:20240918T190000
DTSTAMP:20260426T043217
CREATED:20240814T110939Z
LAST-MODIFIED:20240814T111239Z
UID:19252-1726675200-1726686000@northside.site.findly.com
SUMMARY:Surgical Services Hiring Event
DESCRIPTION:Surgical Services Hiring Event\n\n\n\n\n\nWednesday\, Sept. 18th\n4:00 p.m.– 7:00 p.m. \nJoin us and explore empowering\, rewarding career opportunities for Surgical Techs\, Registered Nurses\, Instrument Techs\, and Anesthesia Techs at our Atlanta\, Cherokee\, and Forsyth locations\, where you’ll work alongside a talented and dedicated surgical staff. \nAs part of Northside Hospital’s family\, you’ll be eligible for our competitive benefits\, including pension plans and competitive pay. We care for our people just like they care for our patients. Join a unique healthcare system where you can grow and thrive. \nDon’t miss this chance to interview with our hiring managers! \n\nRSVP Today
URL:https://northside.site.findly.com/event/surgical-services-hiring-event-6/
CATEGORIES:Allied Events
END:VEVENT
END:VCALENDAR