BEGIN:VCALENDAR
VERSION:2.0
PRODID:-//Northside Hospital | Careers - ECPv6.15.12.2//NONSGML v1.0//EN
CALSCALE:GREGORIAN
METHOD:PUBLISH
X-WR-CALNAME:Northside Hospital | Careers
X-ORIGINAL-URL:https://northside.site.findly.com
X-WR-CALDESC:Events for Northside Hospital | Careers
REFRESH-INTERVAL;VALUE=DURATION:PT1H
X-Robots-Tag:noindex
X-PUBLISHED-TTL:PT1H
BEGIN:VTIMEZONE
TZID:UTC
BEGIN:STANDARD
TZOFFSETFROM:+0000
TZOFFSETTO:+0000
TZNAME:UTC
DTSTART:20230101T000000
END:STANDARD
END:VTIMEZONE
BEGIN:VEVENT
DTSTART;TZID=UTC:20240930T093000
DTEND;TZID=UTC:20240930T160000
DTSTAMP:20260426T043218
CREATED:20240830T063423Z
LAST-MODIFIED:20240910T065223Z
UID:19263-1727688600-1727712000@northside.site.findly.com
SUMMARY:Surgical Services Residency Hiring Event
DESCRIPTION:Surgical Services Residency Hiring Event\n\n\n\n\n\nFor a thriving surgical services career \nLOOK TO NORTHSIDE \nMonday\, Sept. 30th | 9:30 a.m.– 4:00 p.m. \nROAM Perimeter \n1151 Hammond Dr.\, Suite 240 \nAtlanta\, GA 30346 \nJoin us and explore empowering\, rewarding career opportunities for RN Residents\, where you’ll work alongside a talented and dedicated surgical staff! We welcome new grad RNs and experienced RNs looking to move into an exciting new specialty working on the cutting edge of patient care. \nThe following opportunities are available: \n\nAtlanta (Inpatient OR\, Outpatient OR\, Periop\, PACU\, ERU & Pre-Op)\nCherokee (Inpatient OR)\nForsyth (Inpatient OR)\n\nAs a member of our team\, you can look forward to: \n\nA supportive\, positive work environment\nOpportunities for growth\nExcellent benefits\, including an active pension plan\nStudent loan repayment/Tuition reimbursement\nFamily-building support through Progyny’s fertility\, surrogacy\, and adoption benefits\nChild\, elder\, and pet care through Bright Horizons and SitterCity\n\nInterview with our team and explore roles at the event! \n\nRSVP Today
URL:https://northside.site.findly.com/event/surgical-services-hiring-event-7/
CATEGORIES:Nurse Events 1
END:VEVENT
END:VCALENDAR