BEGIN:VCALENDAR
VERSION:2.0
PRODID:-//Northside Hospital | Careers - ECPv6.15.12.2//NONSGML v1.0//EN
CALSCALE:GREGORIAN
METHOD:PUBLISH
X-WR-CALNAME:Northside Hospital | Careers
X-ORIGINAL-URL:https://northside.site.findly.com
X-WR-CALDESC:Events for Northside Hospital | Careers
REFRESH-INTERVAL;VALUE=DURATION:PT1H
X-Robots-Tag:noindex
X-PUBLISHED-TTL:PT1H
BEGIN:VTIMEZONE
TZID:UTC
BEGIN:STANDARD
TZOFFSETFROM:+0000
TZOFFSETTO:+0000
TZNAME:UTC
DTSTART:20240101T000000
END:STANDARD
END:VTIMEZONE
BEGIN:VEVENT
DTSTART;VALUE=DATE:20250226
DTEND;VALUE=DATE:20250227
DTSTAMP:20260425T230727
CREATED:20250226T204639Z
LAST-MODIFIED:20250226T204639Z
UID:19717-1740528000-1740614399@northside.site.findly.com
SUMMARY:Surgical Services Hiring Event
DESCRIPTION:Surgical Services Hiring Event\n\n\n\n\n\nLOOK TO NORTHSIDE\nExpand Your Horizons\nFEB 26\, 9am-12pm\, Perioperative\nFEB 26\, 12:30-3:30pm: Operating Room \nYou belong here! Thrive in a friendly\, empowering culture with supportive leadership\, career level program\, and excellent benefits including loan forgiveness. Come find out why Northside Hospital is the right place for you. Secure your on-the-spot interview when you sign up now! Choose Perioperative and/or Operating Room sessions. \nWant to attend both? Sign up separately for each! \nPeriop event sign up sheet \nOR event sign up sheet
URL:https://northside.site.findly.com/event/surgical-services-hiring-event-9/
CATEGORIES:Non Clinical 1
END:VEVENT
END:VCALENDAR