BEGIN:VCALENDAR
VERSION:2.0
PRODID:-//Northside Hospital | Careers - ECPv6.15.12.2//NONSGML v1.0//EN
CALSCALE:GREGORIAN
METHOD:PUBLISH
X-WR-CALNAME:Northside Hospital | Careers
X-ORIGINAL-URL:https://northside.site.findly.com
X-WR-CALDESC:Events for Northside Hospital | Careers
REFRESH-INTERVAL;VALUE=DURATION:PT1H
X-Robots-Tag:noindex
X-PUBLISHED-TTL:PT1H
BEGIN:VTIMEZONE
TZID:UTC
BEGIN:STANDARD
TZOFFSETFROM:+0000
TZOFFSETTO:+0000
TZNAME:UTC
DTSTART:20220101T000000
END:STANDARD
END:VTIMEZONE
BEGIN:VEVENT
DTSTART;TZID=UTC:20230614T160000
DTEND;TZID=UTC:20230614T190000
DTSTAMP:20260426T011328
CREATED:20230511T145404Z
LAST-MODIFIED:20230511T145404Z
UID:16974-1686758400-1686769200@northside.site.findly.com
SUMMARY:Surgical Tech Hiring Event
DESCRIPTION:LOOKING TO CLIMB HIGHER IN YOUR SURGICAL CAREER?\nLOOK TO NORTHSIDE\n\n\n\n\n\nSurgical Tech Hiring Event \nWednesday\, June 14 | 4 – 7 p.m.\nUnder the Cork Tree\n5600 Roswell Rd NE #2\nSandy Springs\, GA 30342 \nSurgical Technicians\, join us for a Hiring Event on June 14. We have available roles at all of our hospital locations. You can join the Surg Tech CLIMB Program\, our new professional development program for surgical technologists. You will advance through five career levels based on your job level\, years of experience\, education\, and evaluation.\nYou’ll also enjoy… \n• Excellent benefits\n• Work-life balance\n• A strong culture of caring \nWe look forward to meeting you! \n\nRSVP Now!
URL:https://northside.site.findly.com/event/surgical-tech-hiring-event/
CATEGORIES:Non-Clinical
END:VEVENT
END:VCALENDAR