BEGIN:VCALENDAR
VERSION:2.0
PRODID:-//Northside Hospital | Careers - ECPv6.15.12.2//NONSGML v1.0//EN
CALSCALE:GREGORIAN
METHOD:PUBLISH
X-WR-CALNAME:Northside Hospital | Careers
X-ORIGINAL-URL:https://northside.site.findly.com
X-WR-CALDESC:Events for Northside Hospital | Careers
REFRESH-INTERVAL;VALUE=DURATION:PT1H
X-Robots-Tag:noindex
X-PUBLISHED-TTL:PT1H
BEGIN:VTIMEZONE
TZID:UTC
BEGIN:STANDARD
TZOFFSETFROM:+0000
TZOFFSETTO:+0000
TZNAME:UTC
DTSTART:20240101T000000
END:STANDARD
END:VTIMEZONE
BEGIN:VEVENT
DTSTART;TZID=UTC:20250430T090000
DTEND;TZID=UTC:20250430T120000
DTSTAMP:20260424T195049
CREATED:20250321T182515Z
LAST-MODIFIED:20250417T183634Z
UID:19804-1746003600-1746014400@northside.site.findly.com
SUMMARY:Systemwide Hiring Event — Care Coordination
DESCRIPTION:Care Coordination Hiring Event – System-Wide 30th Apr 2025\n\n\n\n\n\nLOOK TO NORTHSIDE\nFind where you belong!\nApril 30\, 9am—12pm \nMEET WITH HIRING MANAGERS \nReimagine what you want in work and life because you can have it all Northside! We are hiring Care Coordination RNs and Social Workers for: \n\nOpportunities across our Atlanta\, Cherokee\, Duluth\, Forsyth and Gwinnett campuses\nWeekday ( 8:00am—4:30pm or 8:30am—5:00pm) or weekend schedules (7:00am—7:30pm/three 12-hour shifts)\n\nCreate a career that meets your work\, life\, home and family needs. Register for our Hiring Event now to meet with hiring managers from all Northside Hospital locations. \n\nDue to a high level of interest\, registration is now closed.
URL:https://northside.site.findly.com/event/systemwide-hiring-event-care-coordination/
CATEGORIES:Allied Events,Allied Events 2
END:VEVENT
END:VCALENDAR