BEGIN:VCALENDAR
VERSION:2.0
PRODID:-//Northside Hospital | Careers - ECPv6.15.12.2//NONSGML v1.0//EN
CALSCALE:GREGORIAN
METHOD:PUBLISH
X-WR-CALNAME:Northside Hospital | Careers
X-ORIGINAL-URL:https://northside.site.findly.com
X-WR-CALDESC:Events for Northside Hospital | Careers
REFRESH-INTERVAL;VALUE=DURATION:PT1H
X-Robots-Tag:noindex
X-PUBLISHED-TTL:PT1H
BEGIN:VTIMEZONE
TZID:UTC
BEGIN:STANDARD
TZOFFSETFROM:+0000
TZOFFSETTO:+0000
TZNAME:UTC
DTSTART:20220101T000000
END:STANDARD
END:VTIMEZONE
BEGIN:VEVENT
DTSTART;TZID=UTC:20230918T123000
DTEND;TZID=UTC:20230918T160000
DTSTAMP:20260425T234428
CREATED:20230911T135546Z
LAST-MODIFIED:20230911T135626Z
UID:17279-1695040200-1695052800@northside.site.findly.com
SUMMARY:TO ADVANCE SURGICAL CARE LOOK TO NORTHSIDE
DESCRIPTION:TO ADVANCE SURGICAL CARE\nLOOK TO NORTHSIDE\n\n\n\n\n\nSurgical Services Drop-In Interviews Event \nMonday\, Sept. 18 | 12:30 – 4 p.m.\nROAM Perimeter\n1151 Hammond Dr.\, Suite 240\nAtlanta\, GA 30346 \nExperienced & New Grad Surgical RNs\, join us on Monday\, Sept. 18 for a Drop In Interviews Event. We have opportunities for Experienced RNs and RN Residents in the following areas at the following locations: \n● Atlanta: Inpatient OR\, Outpatient OR\, Outpatient Periop\, PACU\, ERU & Pre-Op\n● Cherokee: Inpatient OR\n● Forsyth: OR \nAs part of our team\, you’ll enjoy: \n● Excellent benefits\n● Work-life balance\n● A strong culture of caring \n\nRSVP Now!
URL:https://northside.site.findly.com/event/to-advance-surgical-care-look-to-northside/
CATEGORIES:Nurse Events 5
END:VEVENT
END:VCALENDAR