BEGIN:VCALENDAR
VERSION:2.0
PRODID:-//Northside Hospital | Careers - ECPv6.15.12.2//NONSGML v1.0//EN
CALSCALE:GREGORIAN
METHOD:PUBLISH
X-WR-CALNAME:Northside Hospital | Careers
X-ORIGINAL-URL:https://northside.site.findly.com
X-WR-CALDESC:Events for Northside Hospital | Careers
REFRESH-INTERVAL;VALUE=DURATION:PT1H
X-Robots-Tag:noindex
X-PUBLISHED-TTL:PT1H
BEGIN:VTIMEZONE
TZID:UTC
BEGIN:STANDARD
TZOFFSETFROM:+0000
TZOFFSETTO:+0000
TZNAME:UTC
DTSTART:20190101T000000
END:STANDARD
END:VTIMEZONE
BEGIN:VEVENT
DTSTART;TZID=UTC:20200508T090000
DTEND;TZID=UTC:20200508T170000
DTSTAMP:20260426T025740
CREATED:20200417T060047Z
LAST-MODIFIED:20200417T060722Z
UID:9541-1588928400-1588957200@northside.site.findly.com
SUMMARY:Virtual Emergency Care Tech Event
DESCRIPTION:Virtual Emergency Care Tech Event\n\n\n\n\n\nBehind the award-winning emergency services provided at all five of our hospital campuses is our outstanding emergency services team. As Atlanta continues to grow\, our hospital system grows with it –  giving our employees more opportunities for learning\, leadership\, and career development. We’re committed to providing our team with the highest level of career support. Northside Hospital is the only Georgia hospital honored with a 2020 Employees’ Choice Award – recognizing Northside as one of Glassdoor’s Best Places to Work. \nVirtual Emergency Care Tech Event\nFriday\, May 8th  \nWe are currently hiring Emergency Care Technicians at our Atlanta\, Cherokee\, and Forsyth campuses. Choose from multiple shifts and work closely with medical and nursing staff\, EMS\, physicians\, and others to provide the highest level of quick\, proactive care. Critical thinkers and clear communicators will thrive in this role.  \nApply now for the Emergency Care Technician position. Our recruiters will extend invitations to qualified candidates for a virtual interview where you can learn more about our:    \n\nHighly competitive compensation packages\nExcellent 403b retirement plan with employer match\nTuition and certification reimbursement\nLoan forgiveness programs\n\nApply Now!
URL:https://northside.site.findly.com/event/virtual-emergency-care-tech-event/
CATEGORIES:Nurse Events 1
END:VEVENT
END:VCALENDAR