BEGIN:VCALENDAR
VERSION:2.0
PRODID:-//Northside Hospital | Careers - ECPv6.15.12.2//NONSGML v1.0//EN
CALSCALE:GREGORIAN
METHOD:PUBLISH
X-WR-CALNAME:Northside Hospital | Careers
X-ORIGINAL-URL:https://northside.site.findly.com
X-WR-CALDESC:Events for Northside Hospital | Careers
REFRESH-INTERVAL;VALUE=DURATION:PT1H
X-Robots-Tag:noindex
X-PUBLISHED-TTL:PT1H
BEGIN:VTIMEZONE
TZID:UTC
BEGIN:STANDARD
TZOFFSETFROM:+0000
TZOFFSETTO:+0000
TZNAME:UTC
DTSTART:20220101T000000
END:STANDARD
END:VTIMEZONE
BEGIN:VEVENT
DTSTART;TZID=UTC:20231205T090000
DTEND;TZID=UTC:20231205T153000
DTSTAMP:20260425T202105
CREATED:20231116T102725Z
LAST-MODIFIED:20231120T182542Z
UID:17621-1701766800-1701790200@northside.site.findly.com
SUMMARY:Virtual Event for Acute Care Clinical Staff
DESCRIPTION:Virtual Event for Acute Care Clinical Staff\n\n\n\n\n\nGROW YOUR CAREER IN ACUTE CARE\nLOOK TO NORTHSIDE \nVirtual Event for Acute Care Clinical Staff\nDecember 5th & 7th \nJoin us at our next virtual hiring event for highly skilled acute care clinical staff December 5th and 7th on Zoom. Sign up today for your chance at an interview and learn more about our award-winning acute care team. \nNorthside is growing and opening new units at our Forsyth and Gwinnett Campus. Join one of our event dates to learn more about what our Acute Care team has to offer. Our managers are ready to discuss openings available at any of our five campuses. \n\nRSVP Now!
URL:https://northside.site.findly.com/event/virtual-event-for-acute-care-clinical-staff/2023-12-05/
CATEGORIES:Nurse Events 1
END:VEVENT
END:VCALENDAR