BEGIN:VCALENDAR
VERSION:2.0
PRODID:-//Northside Hospital | Careers - ECPv6.15.12.2//NONSGML v1.0//EN
CALSCALE:GREGORIAN
METHOD:PUBLISH
X-WR-CALNAME:Northside Hospital | Careers
X-ORIGINAL-URL:https://northside.site.findly.com
X-WR-CALDESC:Events for Northside Hospital | Careers
REFRESH-INTERVAL;VALUE=DURATION:PT1H
X-Robots-Tag:noindex
X-PUBLISHED-TTL:PT1H
BEGIN:VTIMEZONE
TZID:UTC
BEGIN:STANDARD
TZOFFSETFROM:+0000
TZOFFSETTO:+0000
TZNAME:UTC
DTSTART:20230101T000000
END:STANDARD
END:VTIMEZONE
BEGIN:VEVENT
DTSTART;TZID=UTC:20240312T150000
DTEND;TZID=UTC:20240312T190000
DTSTAMP:20260425T190437
CREATED:20240202T093856Z
LAST-MODIFIED:20240202T104433Z
UID:18017-1710255600-1710270000@northside.site.findly.com
SUMMARY:Join us at our Cherokee and Forsyth Counties Physician Practice Event
DESCRIPTION:Join us at our Cherokee and Forsyth Counties Physician Practice Event\n\n\n\n\n\nTo be part of something bigger\nLOOK TO NORTHSIDE \nCherokee and Forsyth Counties Physician Practice Event\nTuesday\, March 12th | 3:00 – 7:00 p.m.\nLanier Conference Center\n3410 Ronald Reagan Blvd.\nCumming\, GA 30041  \nJoin us for a Hiring Event where you can learn more about job opportunities at our Physician Practices! \nWe have rewarding roles in Cherokee and Forsyth Counties for:\n●	Medical Assistants\n●	Front Office Professionals\n●	Schedulers\n●	And more!  \nBecome part of our premier healthcare system\, where our workplace culture fosters excellence and empowers you to do your best work. As a member of our team\, you can look forward to:\n●	A great work environment\n●	Opportunities for growth\n●	Excellent benefits\, including an active pension plan\n●	Relocation benefits\n●	Student loan repayment/Tuition reimbursement\n●	Family-building support through Progyny’s fertility\, surrogacy\, and adoption benefits\n●	Child\, elder\, and pet care through Bright Horizons and SitterCity \nWe look forward to meeting you!  \n\nRSVP Today!
URL:https://northside.site.findly.com/event/xjoin-us-at-our-cherokee-and-forsyth-counties-physician-practice-event/
CATEGORIES:Nurse Events 4
END:VEVENT
END:VCALENDAR