BEGIN:VCALENDAR
VERSION:2.0
PRODID:-//Northside Hospital | Careers - ECPv6.15.12.2//NONSGML v1.0//EN
CALSCALE:GREGORIAN
METHOD:PUBLISH
X-ORIGINAL-URL:https://northside.site.findly.com
X-WR-CALDESC:Events for Northside Hospital | Careers
REFRESH-INTERVAL;VALUE=DURATION:PT1H
X-Robots-Tag:noindex
X-PUBLISHED-TTL:PT1H
BEGIN:VTIMEZONE
TZID:UTC
BEGIN:STANDARD
TZOFFSETFROM:+0000
TZOFFSETTO:+0000
TZNAME:UTC
DTSTART:20220101T000000
END:STANDARD
END:VTIMEZONE
BEGIN:VTIMEZONE
TZID:America/New_York
BEGIN:DAYLIGHT
TZOFFSETFROM:-0500
TZOFFSETTO:-0400
TZNAME:EDT
DTSTART:20210314T070000
END:DAYLIGHT
BEGIN:STANDARD
TZOFFSETFROM:-0400
TZOFFSETTO:-0500
TZNAME:EST
DTSTART:20211107T060000
END:STANDARD
BEGIN:DAYLIGHT
TZOFFSETFROM:-0500
TZOFFSETTO:-0400
TZNAME:EDT
DTSTART:20220313T070000
END:DAYLIGHT
BEGIN:STANDARD
TZOFFSETFROM:-0400
TZOFFSETTO:-0500
TZNAME:EST
DTSTART:20221106T060000
END:STANDARD
BEGIN:DAYLIGHT
TZOFFSETFROM:-0500
TZOFFSETTO:-0400
TZNAME:EDT
DTSTART:20230312T070000
END:DAYLIGHT
BEGIN:STANDARD
TZOFFSETFROM:-0400
TZOFFSETTO:-0500
TZNAME:EST
DTSTART:20231105T060000
END:STANDARD
END:VTIMEZONE
BEGIN:VEVENT
DTSTART;TZID=UTC:20230131T163000
DTEND;TZID=UTC:20230131T190000
DTSTAMP:20260426T030255
CREATED:20230112T081612Z
LAST-MODIFIED:20230126T054644Z
UID:16394-1675182600-1675191600@northside.site.findly.com
SUMMARY:GI Lab/Endoscopy/Wound Care Event
DESCRIPTION:Join us for a GI Lab/Endoscopy/Wound Care Event.\n\n\n\n\n\nAdvance Your Career. Look to Northside.\n \nTuesday\, January 31 | 4:30 – 7 pm\nLazy Dog Restaurant & Bar\n4532 Ashford Dunwoody Road\nDunwoody\, GA 30346 \nRN Leadership\, RNs\, and Lab Techs\, join us for our mix-and-mingle style GI Lab\, Endoscopy & Wound Care Event on Jan. 31 to learn more about our available roles. We have all shifts available at our Atlanta campus and local clinics. By joining Northside’s team\, you’ll enjoy…\n• Excellent benefits\n• Student loan repayment\n• Tuition reimbursement\n• Work-life balance\n• A strong culture of caring \nInterviews will be conducted on the spot. We look forward to meeting you! \n\nRSVP Here!
URL:https://northside.site.findly.com/event/gi-lab-endoscopy-wound-care-event/
CATEGORIES:Non Clinical 4,Non-Clinical
END:VEVENT
BEGIN:VEVENT
DTSTART;TZID=America/New_York:20220606T080000
DTEND;TZID=America/New_York:20220606T170000
DTSTAMP:20260426T030255
CREATED:20220408T215112Z
LAST-MODIFIED:20220601T053204Z
UID:14374-1654502400-1654534800@northside.site.findly.com
SUMMARY:PCT Internship Program
DESCRIPTION:PCT Internship Program\n\n\n\n\n\n  \n.\nClasses begin:\nJune 6\n.\nIf you have a passion for patient care and you’re ready to take on an exciting new role with a world-class healthcare leader\, our 8-week PCT Internship Program is the opportunity for you!\n\n• Receive in-depth classroom education and precepting\n• Experience a wealth of clinical resources\n• Learn from exceptional system-wide and unit-based educators\n• Enjoy excellent compensation and benefits\n• Pursue varied clinical sub-specialties\n• Gain the competencies and confidence to take on an independent patient care role \n.\nRSVP by applying to your preferred hospital location.\nMedical/Surgical Roles:\nATLANTA\nCHEROKEE\nCUMMING \nMother-Baby Roles:\nATLANTA\nCHEROKEE\nCUMMING
URL:https://northside.site.findly.com/event/pct-internship-program/
CATEGORIES:Non Clinical 4,Nurse Events 1
END:VEVENT
END:VCALENDAR