BEGIN:VCALENDAR
VERSION:2.0
PRODID:-//Northside Hospital | Careers - ECPv6.15.12.2//NONSGML v1.0//EN
CALSCALE:GREGORIAN
METHOD:PUBLISH
X-ORIGINAL-URL:https://northside.site.findly.com
X-WR-CALDESC:Events for Northside Hospital | Careers
REFRESH-INTERVAL;VALUE=DURATION:PT1H
X-Robots-Tag:noindex
X-PUBLISHED-TTL:PT1H
BEGIN:VTIMEZONE
TZID:UTC
BEGIN:STANDARD
TZOFFSETFROM:+0000
TZOFFSETTO:+0000
TZNAME:UTC
DTSTART:20180101T000000
END:STANDARD
END:VTIMEZONE
BEGIN:VEVENT
DTSTART;TZID=UTC:20220322T100000
DTEND;TZID=UTC:20220322T160000
DTSTAMP:20260426T031228
CREATED:20220311T122835Z
LAST-MODIFIED:20220411T095112Z
UID:14121-1647943200-1647964800@northside.site.findly.com
SUMMARY:Open up a world of nursing career options.
DESCRIPTION:Open up a world of nursing career options.\n\n\n\n\n\nAcute Care RN Residency Hiring Events \nAtlanta\nTuesday\, March 22 & Tuesday\, April 19\n10:00am – 4:00pm\nROAM – Perimeter\n1151 Hammond Dr.\, Suite 240\nAtlanta\, GA 30346\nFor openings in:\n• General Medicine\n• PCCU (Progressive Cardiac Care Unit)\n• Post-Surgical/Bariatrics\n• Inpatient GI\n• Neuroscience\n• Women’s Surgery\n• Ortho/Urology \nForsyth\nThursday\, March 24\, 2022\n10:00am – 4:00pm\nNorthside Forsyth Women’s Center Atrium\n1200 Northside Forsyth Drive\nCumming\, GA 30041\nFor openings in:\n• Post-Surgical\n• General Medicine/Pulmonary\n• Older Adult General Medicine\n• Med Surg/Cardiology\n• Neurology\n• Med Surg/GI\n• COVID-GI \nBusiness Casual – Free Parking\n*Due to high interest in these events\, you will be assigned a time slot based on availability. \nEnhance your skills\, advance your career! \nRSVP Today!
URL:https://northside.site.findly.com/event/open-up-a-world-of-nursing-career-options/2022-03-22/
CATEGORIES:Nurse Events 4
END:VEVENT
BEGIN:VEVENT
DTSTART;TZID=UTC:20220316T090000
DTEND;TZID=UTC:20220319T120000
DTSTAMP:20260426T031228
CREATED:20220311T183136Z
LAST-MODIFIED:20220311T183136Z
UID:14130-1647421200-1647691200@northside.site.findly.com
SUMMARY:Interview Days - Oncology\, BMT\, and Infusion Experienced Nurse Residencies
DESCRIPTION:Interview Days – Oncology\, BMT\, and Infusion Experienced Nurse Residencies\n\n\n\n\n\nEnhance your nursing abilities.\nMove into a rewarding career in cancer care. \nNorthside Hospital Cancer Institute\nExperienced Nurse Residency Interview Days \nBone Marrow Transplant – March 16th\, 9am-12pm\nOncology – March 17th\, 9am-12pm\nInfusion – March 17th\, 9am-12pm \nEnhance your skills\, advance into an exciting nursing career in cancer care. If you have at least one year of acute care nursing experience\, come to one of our upcoming Interview Days for classes that begin April 25th. All programs are for Northside Hospital Atlanta. \nRSVP TODAY
URL:https://northside.site.findly.com/event/interview-days-oncology-bmt-and-infusion-experienced-nurse-residencies/
CATEGORIES:Nurse Events 4
END:VEVENT
BEGIN:VEVENT
DTSTART;TZID=UTC:20220308T113000
DTEND;TZID=UTC:20220308T130000
DTSTAMP:20260426T031228
CREATED:20220224T063606Z
LAST-MODIFIED:20220224T063714Z
UID:13981-1646739000-1646744400@northside.site.findly.com
SUMMARY:Enhance our patient experience
DESCRIPTION:Enhance our patient experience\n\n\n\n\n\nMake a difference in the community and your career. \nAdmin Virtual Job Fair\nTuesday\, March 8 | 11:30am-1:00pm\nZoom Call \nReady to take your career in an exciting new direction? We’ve got the opportunity for you! Our Forsyth location has the following immediate openings: \n\n Schedulers – 40wpm typing required \nFront Office Assistants\n\nJoin us at our Virtual Job Fair\, meet directly with hiring managers\, explore our careers\, and see the many ways you can join our skilled and dedicated team. \nTo RSVP\, here to Maddie Moeck at Maddie.Moeck@northside.com
URL:https://northside.site.findly.com/event/enhance-our-patient-experience/
CATEGORIES:Nurse Events 4
END:VEVENT
BEGIN:VEVENT
DTSTART;TZID=UTC:20220302T160000
DTEND;TZID=UTC:20220302T193000
DTSTAMP:20260426T031228
CREATED:20220202T203053Z
LAST-MODIFIED:20220202T203053Z
UID:13866-1646236800-1646249400@northside.site.findly.com
SUMMARY:Surgery Hiring Event – Cherokee Campus
DESCRIPTION:Surgery Hiring Event – Cherokee Campus\n\n\n\n\n\nDiscover a more rewarding career!  \nWednesday\, March 2\n4:00pm – 7:30pm\nHoliday Inn Suites & Express\n1470 Woodstock Parkway\nWoodstock\, GA 30188 \nExplore exciting surgical services careers: \n• RNs\n• Pre Op\n• OR\n• PACU\n• Clinical Care Associate\n• Instrument Tech\n• Lead Anesthesia Tech\n• Sr. Surgical Tech\n• Sterile Core Tech\n• Support Tech \nRSVP by sending your resume to Alexis Collier at alexis.collier@northside.com or here to fill out the form.
URL:https://northside.site.findly.com/event/surgery-hiring-event-cherokee-campus/
LOCATION:Northside Cherokee Campus \, 450 Northside Cherokee Blvd.\, Canton\, GA\, 30115\, United States
CATEGORIES:Nurse Events 4
END:VEVENT
BEGIN:VEVENT
DTSTART;TZID=UTC:20220201T100000
DTEND;TZID=UTC:20220201T140000
DTSTAMP:20260426T031228
CREATED:20220121T131102Z
LAST-MODIFIED:20220121T131239Z
UID:13345-1643709600-1643724000@northside.site.findly.com
SUMMARY:EVS Tech Job Fair
DESCRIPTION:EVS Tech Job Fair\n\n\n\n\n\nDeliver the exceptional support that makes award-winning care possible. \nEVS Tech Job Fair\nTuesday\, February 1\n10:00am – 2:00pm\nCourtyard by Marriott – Cartersville\n5460 GA-20\nCartersville\, GA 30121 \nRSVP with a copy of your resume to: Stefanie.Matthews@Northside.com \nThe first 50 who interview will receive an exciting prize! \nReady to take your career in an exciting new direction? We’ve got the opportunity for you at our Cherokee campus! Join us for our in-person Job Fair\, meet directly with hiring managers and explore roles for Environmental Service Techs!
URL:https://northside.site.findly.com/event/evs-tech-job-fair-2/
CATEGORIES:Nurse Events 4
END:VEVENT
BEGIN:VEVENT
DTSTART;TZID=UTC:20220120T150000
DTEND;TZID=UTC:20220120T170000
DTSTAMP:20260426T031228
CREATED:20211215T212844Z
LAST-MODIFIED:20211215T212844Z
UID:12986-1642690800-1642698000@northside.site.findly.com
SUMMARY:Critical Care RN Virtual Hiring Event
DESCRIPTION:Critical Care RN Virtual Hiring Event\n\n\n\n\n\nTake on the biggest challenges. Experience the greatest rewards. \nCritical Care RN Virtual Hiring Event\nThursday\, January 20th\n3:00pm – 5:00pm\nZoom Call \nWe have immediate openings for skilled\, experienced RNs at all of our hospital locations. Join us at this important event! \nRSVP today to Jess Burke at jess.burke@northside.com
URL:https://northside.site.findly.com/event/critical-care-rn-virtual-hiring-event-3/
CATEGORIES:Nurse Events 4
END:VEVENT
BEGIN:VEVENT
DTSTART;TZID=UTC:20220113T113000
DTEND;TZID=UTC:20220113T130000
DTSTAMP:20260426T031228
CREATED:20211230T172741Z
LAST-MODIFIED:20220112T160253Z
UID:13075-1642073400-1642078800@northside.site.findly.com
SUMMARY:Medical Assistants Virtual Hiring Event
DESCRIPTION:Medical Assistants Virtual Hiring Event\n\n\n\n\n\nHelp define our award-winning care.\n\nMedical Assistants Virtual Hiring Event\nJanuary 13\, 2022\n11:30am – 1:00pm\nZoom Meeting \nMeet with our hiring managers and explore openings for Medical Assistants at all of our hospital campuses. \nTo RSVP\, email your resume to Maddie Moeck at Maddie.Moeck@northside.com
URL:https://northside.site.findly.com/event/medical-assistants-hiring-event/
CATEGORIES:Nurse Events 4
END:VEVENT
BEGIN:VEVENT
DTSTART;TZID=UTC:20211111T130000
DTEND;TZID=UTC:20211111T163000
DTSTAMP:20260426T031228
CREATED:20211031T114831Z
LAST-MODIFIED:20211031T114831Z
UID:12622-1636635600-1636648200@northside.site.findly.com
SUMMARY:Support Staff Hiring Event
DESCRIPTION:Make a positive impact on the community.\nExperience greater fulfillment in your career.\n\n\n\n\n\nSupport Staff Hiring Event\nThursday\, November 11 | 1:00pm – 4:30pm\nWills Park – Lions Club Pavilion\n11925 Wills Road\nAlpharetta\, GA 30009 \nRSVP with a copy of your resume to: Keyani.Grier@Northside.com \nReady to take your career in a more rewarding direction? We’ve got the opportunity for you! Join us for our in-person career event\, meet directly with hiring managers and explore these openings at our Cherokee\, Forsyth and Atlanta locations:\n• Patient Access\n• Schedulers\n• Front Office Assistants\n• Medical Assistants\n• Pre-Registration Representatives
URL:https://northside.site.findly.com/event/support-staff-hiring-event-2/
CATEGORIES:Nurse Events 4
END:VEVENT
BEGIN:VEVENT
DTSTART;TZID=UTC:20211027T110000
DTEND;TZID=UTC:20211027T170000
DTSTAMP:20260426T031228
CREATED:20211001T153325Z
LAST-MODIFIED:20211001T153325Z
UID:12525-1635332400-1635354000@northside.site.findly.com
SUMMARY:Support Services Hiring Event
DESCRIPTION:Support Services Hiring Event\n\n\n\n\n\nMake a difference in the community and your career./strong> \nSupport Services Hiring Event\nWednesday\, October 27 | 11:00am – 5:00pm\nNorthside Midtown Medical Campus – In the Parking Deck\n1100 W. Peachtree Street NW\nAtlanta\, GA 30309 \nRSVP with a copy of your resume to: Maria.Mateus@Northside.com \nReady to take your career in an exciting new direction? We’ve got the opportunity for you! Join us for our in-person career event\, meet directly with hiring managers and explore roles for Office Staff\, Environmental Services\, Food Services\, Security\, and more!
URL:https://northside.site.findly.com/event/support-services-hiring-event/
CATEGORIES:Non-Clinical,Nurse Events,Nurse Events 4
END:VEVENT
BEGIN:VEVENT
DTSTART;TZID=UTC:20210930T110000
DTEND;TZID=UTC:20210930T150000
DTSTAMP:20260426T031228
CREATED:20210921T144854Z
LAST-MODIFIED:20210921T154125Z
UID:12442-1632999600-1633014000@northside.site.findly.com
SUMMARY:Northside-Forsyth Recruitment Event
DESCRIPTION:Northside-Forsyth Recruitment Event\n\n\n\n\n\nMake a difference in our community and your career. \nNorthside-Forsyth Recruitment Event\nThursday\, September 30 | 11:00am – 3:00pm\nSpringHill Suites- Alpharetta\nMagnolia/Azalea Room\n1360 Old Roswell Road\nAlpharetta\, GA 30022 \nRSVP by sending your resume and position of interest to Aspen Allen at Aspen.Allen@northside.com \nNorthside-Forsyth has immediate openings in a wide variety of clinical and non-clinical roles. Come contribute to our outstanding care in one of the following areas: \nEnvironmental Services\nFood Services\nSecurity\nOutpatient Surgery Center\n–RNs\n–Surgical Assistants\n–Pre-Op\nPhysician Practices\n–Front Office Assistants\n–Medical Assistants\n–Schedulers \nJoin us on September 30 for our in-person career event\, meet directly with hiring managers\, explore our careers\, and see the many ways you can join our skilled and dedicated team.
URL:https://northside.site.findly.com/event/northside-forsyth-recruitment-event/
LOCATION:SpringHill Suites- Alpharetta\, 1360 Old Roswell Road\, Roswell\, GA\, 30076\, United States
CATEGORIES:Non-Clinical,Nurse Events,Nurse Events 4
END:VEVENT
BEGIN:VEVENT
DTSTART;TZID=UTC:20210916T170000
DTEND;TZID=UTC:20210916T190000
DTSTAMP:20260426T031228
CREATED:20210810T105856Z
LAST-MODIFIED:20210810T110657Z
UID:11941-1631811600-1631818800@northside.site.findly.com
SUMMARY:Virtual RN Acute Care/Med Surg Career Event
DESCRIPTION:Explore an incredible variety of\nopportunities at one virtual event!\n\n\n\n\n\nExplore an incredible variety of\nopportunities at one virtual event!\nVirtual RN Acute Care/Med Surg Career Event\nThursday\, September 16\n5:00pm – 7:00pm \nReady to explore a new direction for your nursing career? We’ve got the opportunity for you. Actually\, LOTS of opportunities! As Atlanta’s most preferred hospital\, we’re experiencing tremendous growth throughout our system. This means we have a wealth of exciting new acute care and med surg nursing positions available too! See for yourself at our virtual career event. You’ll meet directly with hiring managers and discover the many ways you can join our skilled and compassionate nursing family. \nRSVP Tina Rosia at Christina.Rosia@northside.com.
URL:https://northside.site.findly.com/event/virtual-rn-acute-care-med-surg-career-event/
CATEGORIES:Nurse Events 4
END:VEVENT
BEGIN:VEVENT
DTSTART;TZID=UTC:20210827T080000
DTEND;TZID=UTC:20210827T160000
DTSTAMP:20260426T031228
CREATED:20210722T102809Z
LAST-MODIFIED:20210722T102902Z
UID:11570-1630051200-1630080000@northside.site.findly.com
SUMMARY:Patient Care Technician Hiring Event
DESCRIPTION:Patient Care Technician Hiring Event\n\n\n\n\n\nOur patient care is second to none!\nYour caring makes all the difference!  \nPatient Care Technician Hiring Event\nAugust 6th\, 13th and 27th\n8:00am-4:00pm\nNorthside Hospital Cherokee Campus\n450 Northside Cherokee Blvd.\nCanton\, GA 30115 \nLooking to have a positive impact on other’s lives? Discover rewarding careers for Patient Care Technicians with\nAtlanta’s most-preferred hospital. We have openings for experienced PCTs as as a PCT Residency Program to prepare those new to this exciting role.  \nContact Rosia at Christina.Rosia@northside.com or apply online to requisition #116933.
URL:https://northside.site.findly.com/event/patient-care-technician-hiring-event-3/
CATEGORIES:Nurse Events 4
END:VEVENT
BEGIN:VEVENT
DTSTART;TZID=UTC:20210520T140000
DTEND;TZID=UTC:20210520T170000
DTSTAMP:20260426T031228
CREATED:20210505T135004Z
LAST-MODIFIED:20210517T082042Z
UID:11191-1621519200-1621530000@northside.site.findly.com
SUMMARY:Surgical Services Virtual Career Event
DESCRIPTION:Surgical Services Virtual Career Event\n\n\n\n\n\nDiscover Exciting Careers at Our New Outpatient Surgery Center! \nMidtown Surgery Center\nThursday\, May 20th\n2:00pm – 5:00pm \nMeet directly with recruiters and hiring managers. Explore a wide variety of surgical careers\,\nincluding:\n● RNs – Pre-Op/PACU\, Operating Room and Extended Recovery\n● Surgical Technologists\n● Surgical Resource Techs\n● Instrument Technicians\n● Instrument Techs – Lead\n● RN Clinical Supervisors\n● Inventory Control Specialists\n● Support Techs \nLearn more and RSVP today!
URL:https://northside.site.findly.com/event/surgical-services-virtual-career-event/
LOCATION:midtown surgery center
CATEGORIES:Nurse Events,Nurse Events 4
END:VEVENT
BEGIN:VEVENT
DTSTART;TZID=UTC:20210511T110000
DTEND;TZID=UTC:20210511T130000
DTSTAMP:20260426T031228
CREATED:20210504T170029Z
LAST-MODIFIED:20210504T170029Z
UID:11031-1620730800-1620738000@northside.site.findly.com
SUMMARY:Critical Care RN Virtual Hiring Event
DESCRIPTION:Critical Care RN Virtual Hiring Event\n\n\n\n\n\nNorthside Hospital is hiring Critical Care RN at all five of our hospital campuses. As our hospital system continues to grow\, we have a growing need for skilled\, compassionate nurses. We invite you to make a rewarding difference at the only Georgia hospital recognized as one of Glassdoor’s 2020 Best Places to Work. \nNorthside Hospital | Critical Care RN Virtual Hiring Event\nTuesday\, May 11th\n11:00am – 1:00pm via Zoom \nRVSP now to join our Critical Care RN Virtual Hiring Event on Tuesday\, May 11th. Learn more about our career opportunities\, multiple shift options\, and competitive benefits\, including: \n● Highly competitive compensation packages\n● Excellent 403b retirement plan with employer match\n● Fully funded pension plan\n● Tuition and certification reimbursement\n● Loan forgiveness programs\n● Cutting-edge facilities and equipment \nRSVP URL: https://jobs.northside.com/campaign/northside-hospital-critical-care-rn-virtual-hiring-event-3/
URL:https://northside.site.findly.com/event/critical-care-rn-virtual-hiring-event/
CATEGORIES:Nurse Events 4
ATTACH;FMTTYPE=image/jpeg:https://northside.site.findly.com/wp-content/uploads/sites/845/2020/08/Copy-of-OR-Candid_featured.jpg
END:VEVENT
BEGIN:VEVENT
DTSTART;TZID=UTC:20201111T170000
DTEND;TZID=UTC:20201111T190000
DTSTAMP:20260426T031228
CREATED:20201016T171533Z
LAST-MODIFIED:20201016T171533Z
UID:10117-1605114000-1605121200@northside.site.findly.com
SUMMARY:Northside Hospital | Med Surg RN Virtual Hiring Expo
DESCRIPTION:Join our Med/Surg RN Virtual Hiring Expo\n\n\n\n\nWednesday\, November 11th\n5:00pm – 7:00pm\nVirtual Event via Zoom \nNorthside Hospital is hiring experienced Med Surg RNs with 6+ months of experience. We have opportunities across all five campuses – Atlanta\, Cherokee\, Forsyth\, Gwinnett\, and Duluth. \nReserve your spot now for our Virtual Hiring Expo on November 11th from 5-7pm. You will have the opportunity to meet virtually with hiring managers and learn more about the continued growth and expansion taking place across all of our locations\, including new unit openings in Duluth and Gwinnett. \nWe offer day and night shifts and comprehensive benefits\, including:\nHighly competitive compensation packages\nExcellent 403b retirement plan with employer match\nTuition and certification reimbursement\nLoan forgiveness programs\nCutting-edge technology and facilities \nTo reserve your spot\, email Tina Rosia at Christina.Rosia@Northside.com.
URL:https://northside.site.findly.com/event/northside-hospital-med-surg-rn-virtual-hiring-expo/
CATEGORIES:Nurse Events 4
END:VEVENT
BEGIN:VEVENT
DTSTART;TZID=UTC:20200116T160000
DTEND;TZID=UTC:20200116T190000
DTSTAMP:20260426T031228
CREATED:20191230T232338Z
LAST-MODIFIED:20200110T211228Z
UID:8928-1579190400-1579201200@northside.site.findly.com
SUMMARY:Northside Gwinnett Surgical Services Hiring Event
DESCRIPTION:Northside Gwinnett Surgical Services Hiring Event\n\n\n\n\n\nSurgical Services Nurses & Techs – Broaden your TRUE Vision \nAs a leader in surgical services\, we invest in the latest technology to ensure we stay at the forefront of medicine and patient care. We continue to offer our patients less-invasive surgery options and perform the most robotic surgeries across Georgia. Our Northside team currently has rewarding career opportunities for Surgical Services RNs (Pre Op\, PACU\, Operating Room)\, Surgical Techs\, and Charge Preceptor RNs. \nNorthside Hospital Surgical Services Hiring Event\nJanuary 16th\, 2019\n4:00pm – 7:00pm\nGwinnett Medical Center Foundation\n1755 N Brown Rd #100\nLawrenceville\, GA 30043 \nJoin us on January 16th for refreshments and a chance to meet with some of our leaders and recruiters. Get to know the career opportunities that we have available at Duluth\, Gwinnett and across our locations. Find out how we support your career and your personal growth through our rewarding opportunities\, supportive culture\, and benefits including:\n● Highly competitive compensation packages\n● Employer funded pension and 403b with match\n● Tuition and certification reimbursement\n● Loan forgiveness programs\n● State-of-the-art facilities and equipment \nRSVP to Rosalind Ollison at Rosalind.Ollison@northside.com or 678-312-4317.
URL:https://northside.site.findly.com/event/northside-gwinnett-surgical-services-hiring-event/
LOCATION:The Foundation Building\, 1755 N Brown Rd #100\, Lawrenceville\, CA\, 30043\, United States
CATEGORIES:Nurse Events 4
END:VEVENT
BEGIN:VEVENT
DTSTART;TZID=UTC:20191023T160000
DTEND;TZID=UTC:20191023T190000
DTSTAMP:20260426T031228
CREATED:20190916T150020Z
LAST-MODIFIED:20190917T191129Z
UID:8686-1571846400-1571857200@northside.site.findly.com
SUMMARY:Bone Marrow Transplant\, Oncology\, & Infusion RNs: Join Us and Earn 1.75 CEs!
DESCRIPTION:Bone Marrow Transplant\, Oncology\, & Infusion RNs: Join Us and Earn 1.75 CEs!\n\n\n\n\n\nNorthside Hospital is among the top 5 cancer programs in the U.S. Our team diagnoses and treats the most new cancer cases in Georgia and the most breast cancer cases in the Southeast. Our reputation is a testament to our team’s tireless dedication to our patients. We never stop seeking opportunities to grow\, knowing that by continuously building on what we’ve learned and accomplished\, we are able to better serve more patients. \nNorthside Hospital | Continuing Education Event\nThe Characteristics of an Ethical Dilemma\nDoctor’s Centre Building – Auditorium \n980 Johnson Ferry Road NE\nAtlanta\, GA 3034\nWednesday\, October 23rd | 4:00pm – 7:00pm\nJoin us on October 23rd for a chance to learn together. We have a continuing education opportunity for RNs called\, “The Characteristics of an Ethical Dilemma.” Earn 1.75 CEs and find out how\, along with trainings like these\, we support our team with: \n\nState-of-the-art facilities and equipment\nTuition and certification reimbursement\nLoan forgiveness programs\nHighly competitive compensation packages\nExcellent 403b retirement plan with employer match\n\nRSVP by sending your resume to Madeline Spence at Madeline.Spence@northside.com \nEOE/AA/F/M/Disability/Vet
URL:https://northside.site.findly.com/event/bone-marrow-transplant-oncology-infusion-rns-join-us-and-earn-1-75-ces/
LOCATION:Northside Hospital – Doctor’s Centre Building – Auditorium\, 980 Johnson Ferry Road NE\, Atlanta\, GA\, 30342\, United States
CATEGORIES:Nurse Events 4
END:VEVENT
BEGIN:VEVENT
DTSTART;TZID=UTC:20190725T160000
DTEND;TZID=UTC:20190725T190000
DTSTAMP:20260426T031228
CREATED:20190709T172100Z
LAST-MODIFIED:20190720T072720Z
UID:8101-1564070400-1564081200@northside.site.findly.com
SUMMARY:Northside Hospital | Surgical Services Recruiting Event
DESCRIPTION:Northside Hospital | Surgical Services Recruiting Event\n\n\n\n\n\nYou’ve Got The Talent\nNow Join The Team\nDiscover the Northside Difference \nAs a Surgical Services professional\, you’re always striving to be the best. Now\, you have an excellent opportunity to join the best by lending your skills to the elite team at Northside Hospital\, where we do 40\,500 surgeries every year – more than any other healthcare system in Georgia. \nIf you’re an experienced Surgical Tech\, an RN (Pre Op\, OR\, PACU)\, a Support or Instrument Technician or a Charge Preceptor RN\, we want to see you at our next Recruiting Event on Thursday\, July 25! \nNorthside Hospital | Surgical Services Recruiting Event\nGypsy Kitchen\n3035 Peachtree Rd. NE\nAtlanta\, GA 30305\nThursday July 25th\n4:00pm – 7:00pm\nComplimentary self-parking available\nEnjoy food and drinks while you meet with our Surgical Team leaders and hear directly about the incredible career paths now available\, which include both full- and part-time positions in the inpatient and outpatient settings. \nJoining the team here means working with some of the area’s top surgeons\, being part of the second-largest robotics-assisted surgery program in the country and experiencing the camaraderie that defines why we are the “Northside family.” \nIt also means getting some of the best benefits in the industry\, including: \n\nAn excellent 403b retirement plan with employer match\nFlexibility aimed at promoting work/life balance\nTuition reimbursement and loan forgiveness programs\nFully-funded pension plan\n\nSeeking nurses who specialize in: Progressive Cardiac Care\, Neuroscience\, LTAC\, Rehab\, GI Med/Surg\, General Surgical/Bariatric Surgery\, Orthopedics/Urology\, and General Medicine. \nDiscover a rewarding career with Northside Hospital\, one of the Best Places to Work by Glassdoor and Comparably. \nPlease RSVP to justine.thompson@northside.com or antwane.lee@northside.com
URL:https://northside.site.findly.com/event/northside-hospital-surgical-services-recruiting-event/
LOCATION:Gypsy Kitchen\, 3035 Peachtree Rd. NE\, Atlanta\, GA\, 30305\, United States
CATEGORIES:Nurse Events 4
END:VEVENT
BEGIN:VEVENT
DTSTART;TZID=UTC:20190711T163000
DTEND;TZID=UTC:20190711T193000
DTSTAMP:20260426T031228
CREATED:20190621T214428Z
LAST-MODIFIED:20190627T161941Z
UID:7854-1562862600-1562873400@northside.site.findly.com
SUMMARY:Gainesville Recruiting Event
DESCRIPTION:Gainesville Recruiting Event\n\n\n\n\n\nChallenge. Opportunity. Growth.\nGet it all now. At Northside Hospital. \nAre you ready to take your skills to the next level? Are you ready for a career with the challenge\,\nopportunity and growth potential only Northside can offer? If you’re a Registered Nurse or Surgical\nTech in any specialty area\, we’re ready for you. Join us in Gainesville on Thursday\, July 11\nfor a special evening! \nNorthside Hospital | Gainesville Recruiting Event\nScott’s Downtown\n131 Bradford St. NW\, Gainesville\, GA 30501\nThursday\, July 11\n4:30pm – 7:30pm \nEnjoy drinks\, appetizers and desserts and learn more about opportunities available with Georgia’s\npremier health system. Find out why we’re consistently ranked a “Best Place to Work’ and hear about\nthe incredible benefits we offer\, which include: \n• Cutting edge technology and state-of-the-art facilities\n• An excellent 403b retirement plan with employer match\n• Flexibility aimed at promoting work/life balance\n• Highly competitive salaries and comprehensive benefits\n• Tuition reimbursement and loan forgiveness programs\n• Fully-funded pension plan \nYour next step is a career with us. Find yourself at Northside!\nRSVP to Nicole Hedrick at nicole.hedrick@northside.com
URL:https://northside.site.findly.com/event/gainesville-recruiting-event/
LOCATION:Scott’s Downtown\, 131 Bradford St. NW\, Gainesville\, GA\, 30501\, United States
CATEGORIES:Nurse Events,Nurse Events 4
END:VEVENT
END:VCALENDAR