BEGIN:VCALENDAR
VERSION:2.0
PRODID:-//Northside Hospital | Careers - ECPv6.15.12.2//NONSGML v1.0//EN
CALSCALE:GREGORIAN
METHOD:PUBLISH
X-ORIGINAL-URL:https://northside.site.findly.com
X-WR-CALDESC:Events for Northside Hospital | Careers
REFRESH-INTERVAL;VALUE=DURATION:PT1H
X-Robots-Tag:noindex
X-PUBLISHED-TTL:PT1H
BEGIN:VTIMEZONE
TZID:UTC
BEGIN:STANDARD
TZOFFSETFROM:+0000
TZOFFSETTO:+0000
TZNAME:UTC
DTSTART:20180101T000000
END:STANDARD
END:VTIMEZONE
BEGIN:VEVENT
DTSTART;TZID=UTC:20210629T170000
DTEND;TZID=UTC:20210629T190000
DTSTAMP:20260425T144344
CREATED:20210611T112453Z
LAST-MODIFIED:20210611T115408Z
UID:11448-1624986000-1624993200@northside.site.findly.com
SUMMARY:Be the heart of exceptional patient care!
DESCRIPTION:Be the heart of exceptional patient care!\n\n\n\n\n\nCardiology Services Virtual Hiring Event \nTuesday\, June 29\n5:00pm – 7:00pm \nReady to take your career in an exciting new direction? We’ve got the opportunity for you! At Northside Hospital – Atlanta’s most preferred hospital – we’re expanding and enhancing our cardiology services and offering outstanding careers for exceptional clinical professionals: \n\nRNs\nNurse Practitioners\nPhysician Assistants\nMedical Assistants\nCath Lab Techs\nNuclear Med Techs\nMonitor Techs\nCardiac Device Specialists\nCardiovascular Techs\n\nJoin us at our Virtual Hiring Event\, meet hiring managers\, and explore the many ways you can contribute to our high quality\, compassionate cardiac care. \nRSVP to attend by contacting Samantha Stirnemann at Samantha.Stirnemann@northside.com or  Apply Online Now
URL:https://northside.site.findly.com/event/be-the-heart-of-exceptional-patient-care/
CATEGORIES:Non-Clinical,Nurse Events 6
END:VEVENT
BEGIN:VEVENT
DTSTART;TZID=UTC:20200408T163000
DTEND;TZID=UTC:20200408T193000
DTSTAMP:20260425T144344
CREATED:20200312T140833Z
LAST-MODIFIED:20200312T141026Z
UID:9318-1586363400-1586374200@northside.site.findly.com
SUMMARY:Critical Care & Emergency RNs Hiring Event
DESCRIPTION:Experienced Critical Care & Emergency RNs – Join a National Leader\n\n\n\n\n\nJoin us on Wednesday\, April 8th for our Critical Care & Emergency RNs Hiring Event. \nNorthside Hospital is the only Georgia hospital honored with a Glassdoor Employees’ Choice Award in 2020\, which recognizes the Best Places to Work. Our reputation is driven by our exceptional team\, which continues to grow. As we do\, our team members have even more opportunities to step into new roles\, learn new skills\, and further advance their careers. As an experienced Critical Care or Emergency RN\, your skills are in high demand. Northside can provide you with the environment\, resources\, and opportunities you deserve.  \nNorthside Hospital | Critical Care & Emergency RNs Hiring Event\nWednesday\, April 8th\n4:30pm – 7:30pm\nNovo Cocina\n5592 Chamblee Dunwoody Road\nDunwoody\, Georgia 30338 \nJoin us on April 8th to meet with some of our leaders and discover what we can accomplish together as a growing team. At Northside\, your career is in good hands. We offer benefits including:  \n\n\nHighly competitive compensation packages\nEmployer funded pension and 403b with match\nTuition and certification reimbursement\nLoan forgiveness programs\nState-of-the-art facilities and equipment\n\n\nRSVP to Ashley Levine at Ashley.Levine@Northside.com or at 404-303-3369.
URL:https://northside.site.findly.com/event/critical-care-emergency-rns-hiring-event/
LOCATION:Northwell\, 5592 Chamblee Dunwoody Road\, Dunwoody\, GA\, 30338\, United States
CATEGORIES:Nurse Events 6
END:VEVENT
BEGIN:VEVENT
DTSTART;TZID=UTC:20200227T170000
DTEND;TZID=UTC:20200227T200000
DTSTAMP:20260425T144344
CREATED:20200203T193247Z
LAST-MODIFIED:20200203T210331Z
UID:9041-1582822800-1582833600@northside.site.findly.com
SUMMARY:Northside Hospital Women’s Services Mix & Mingle
DESCRIPTION:Northside Hospital Women’s Services Mix & Mingle\n\n\n\n\n\nExperienced Women’s Services Nurses – Join the Northside Hospital Family\nWe’re hiring Experienced Mother Baby\, NICU\, L&D\, High Risk Perinatal\, Women’s Surgical & Lactation RNs. \nNearly 18\,000 babies were born at Northside Hospital Atlanta in 2019\, more than any other single hospital in the United States. We are proud to be a leader in women’s health\, intentionally caring for women throughout their pregnancies and entire lives. \nTo our team members\, we offer the same level of exceptional care for each step of your career. Are you ready to join the team at one of Glassdoor’s 2020 Best Places to Work? \nMeet and mingle with hiring managers and staff on February 27th and learn more about our comprehensive benefits\, including:\n● Highly competitive compensation packages\n● Employer funded pension and 403b with match\n● Tuition and certification reimbursement\n● Loan forgiveness programs\n● State-of-the-art facilities and equipment \nRSVP to Spencer Prince \nFebruary 27th\, 2020\n5:00pm – 8:00pm\nThe Select Restaurant + Bar\n6405 Blue Stone Road\nSandy Springs\, GA 30328
URL:https://northside.site.findly.com/event/northside-hospital-womens-services-mix-mingle/
LOCATION:The Select Restaurant + Bar\, 6405 Blue Stone Road\, Sandy Springs\, GA\, 30328\, United States
CATEGORIES:Nurse Events 6
END:VEVENT
BEGIN:VEVENT
DTSTART;TZID=UTC:20200118T090000
DTEND;TZID=UTC:20200118T120000
DTSTAMP:20260425T144344
CREATED:20200107T215807Z
LAST-MODIFIED:20200107T220129Z
UID:8950-1579338000-1579348800@northside.site.findly.com
SUMMARY:Acute Care/Med-Surg & Oncology Summer 2020 Residency Programs
DESCRIPTION:Acute Care/Med-Surg & Oncology Summer 2020 Residency Programs\n\n\n\n\n\nNorthside Hospital is a leader in acute care\, known for exceptional healthcare since we opened our doors in 1970. We are home to one of the top 5 cancer programs in the U.S.\, where we diagnose and treat the most new cancer cases in Georgia. Our Cancer Institute (NHCI) is one of the largest and most respected oncology care providers in Atlanta. Learn from a leader through our upcoming nurse residency programs. \nRN Summer Residency Recruitment Event \nSchedule your interview with us today! \nJanuary 18th\, 2020 from 9am to 12pm \nRoam Perimeter Center \n1151 Hammond Drive NE\, Suite 240 (Garage Room) \nAtlanta\, GA 30346 \nOur nurse residencies are open to recently graduated RNs\, second career RNs\, and experienced RNs who are looking to learn a new specialty. Join us on January 18th to learn more about our Acute Care/Med-Surg and Oncology residencies starting in August 2020. Meet with Acute Care and Oncology department leaders to interview for upcoming residency openings. \nPlease bring several updated copies of your resume. Free parking and refreshments provided.\nRSVP to Jessica Pirkle at Jessica.Pirkle@Northside.comor 404-843-4157.
URL:https://northside.site.findly.com/event/acute-care-med-surg-oncology-summer-2020-residency-programs/
LOCATION:Roam Perimeter Center\, 1151 Hammond Drive NE\, Suite 240\, Atlanta\, GA\, 30346\, United States
CATEGORIES:Nurse Events 6
END:VEVENT
BEGIN:VEVENT
DTSTART;TZID=UTC:20190719T090000
DTEND;TZID=UTC:20190719T140000
DTSTAMP:20260425T144344
CREATED:20190702T060019Z
LAST-MODIFIED:20190720T072845Z
UID:7980-1563526800-1563544800@northside.site.findly.com
SUMMARY:Northside Hospital | Cardiology Services Walk-In Interview Days
DESCRIPTION:Northside Hospital Cardiology Services Walk-In Interview Days\n\n\n\n\n\nFridays\, 9:00am – 2:00 pm | Northside Atlanta\nJuly 19th – August 23rd\nNorthside Hospital Interchange Professional Building\n5780 Peachtree Dunwoody Rd. NE Suite 460\nAtlanta\, GA 30342 \nAt Georgia’s premier healthcare system\, we’re growing every day. Can you say the same about your career? Now\, our growth is creating great opportunities for anyone working in Cardiology Services! We have positions for experienced RNs – EP\, Device Clinic\, Cath Lab\, Cardiology practice and Clinical Staff – CV Techs\, Echo Techs\, Nuclear Med Techs\, Vascular Techs\, Device Techs and MA’s with Cardiology practice experience. Join us during one of our Walk-in Interview Days! \nMeet with recruiter Michele Burch\, and learn why we’re consistently ranked a “Best Place to Work” and hear about the incredible benefits we offer\, which include: \n\nA service line that is committed to using the latest technology while offering educational and growth opportunities\nAn excellent 403b retirement plan with employer match\nLocal traveler program or relocation assistance available\nHighly competitive salaries and comprehensive benefits\nTuition reimbursement and loan forgiveness programs\nFully-funded pension plan\n\nYour next step is a career with us. Find yourself at Northside! \nRSVP by sending your resume to nicole.hedrick@northside.com\, please indicate which location is best for you!
URL:https://northside.site.findly.com/event/northside-hospital-cardiology-services-walk-interview-days-2/2019-07-19/
LOCATION:Northside Atlanta\, 5780 Peachtree Dunwoody Rd. NE\, Atlanta\, GA\, 30342\, United States
CATEGORIES:Nurse Events 6
END:VEVENT
BEGIN:VEVENT
DTSTART;TZID=UTC:20190710T160000
DTEND;TZID=UTC:20190710T190000
DTSTAMP:20260425T144344
CREATED:20190606T181218Z
LAST-MODIFIED:20190627T161230Z
UID:7576-1562774400-1562785200@northside.site.findly.com
SUMMARY:Northside Hospital Forsyth | Med/Surg RN Recruitment Event
DESCRIPTION:Northside Hospital Forsyth | Med/Surg RN Recruitment Event\n\n\n\n\nNorthside Hospital Forsyth | Med/Surg RN Recruitment Event\nCumming\n1400 Northside Forsyth Drive\nAtlanta\, GA.\nJuly 10\n4:00pm and 7:00pm\n\nYour Skills. Our Team. \nThe Perfect Match! \nDiscover Northside \nNorthside Hospital\, renowned for exceptional patient care since 1970\, continues to grow creating more opportunities for you to elevate your career! We’re looking for talented Med/Surg nurses like you to join the Northside Family. \nA career with us means working alongside the best colleagues in the business with a leadership team that empowers career advancement. \nThat’s just one of the reasons we are: \nRanked as a Best Place to Work by Glassdoor and Comparably \nRanked as a 2018-19 “Best Hospital” by U.S. News & World Report \nA winner of The Joint Commission’s Gold Seal of Approval for healthcare quality \nSwing by our recruitment event and check out Northside: \nNorthside Hospital Forsyth | Med/Surg RN Recruitment Event \nRSVP to Milan.Lafayette@Northside.com \nJoin us and enjoy refreshments as you meet and mingle with our leaders and team.. You’ll also hear more about our amazing benefits package\, which includes: \nAn excellent 403b retirement plan with employer match \nFlexibility aimed at promoting work/life balance \nHighly competitive salaries \nProfessional advancement via our Nursing Excellence Track (NEXT) program \nTuition reimbursement and loan forgiveness program \nMedical\, Dental and Vision coverage options to meet your needs \nYour Med/Surg skills will make an impact here. We’re looking forward to meeting you!
URL:https://northside.site.findly.com/event/find-new-home-med-surg-rn-skills/
LOCATION:Northside Hospital Forsyth\, 1200 Northside Forsyth Drive\, Cumming\, GA\, 30041\, United States
CATEGORIES:Nurse Events,Nurse Events 6
END:VEVENT
END:VCALENDAR