BEGIN:VCALENDAR
VERSION:2.0
PRODID:-//Northside Hospital | Careers - ECPv6.15.12.2//NONSGML v1.0//EN
CALSCALE:GREGORIAN
METHOD:PUBLISH
X-WR-CALNAME:Northside Hospital | Careers
X-ORIGINAL-URL:https://northside.site.findly.com
X-WR-CALDESC:Events for Northside Hospital | Careers
REFRESH-INTERVAL;VALUE=DURATION:PT1H
X-Robots-Tag:noindex
X-PUBLISHED-TTL:PT1H
BEGIN:VTIMEZONE
TZID:UTC
BEGIN:STANDARD
TZOFFSETFROM:+0000
TZOFFSETTO:+0000
TZNAME:UTC
DTSTART:20230101T000000
END:STANDARD
END:VTIMEZONE
BEGIN:VEVENT
DTSTART;TZID=UTC:20240911T110000
DTEND;TZID=UTC:20240911T130000
DTSTAMP:20260426T025126
CREATED:20240903T060745Z
LAST-MODIFIED:20240908T114437Z
UID:19274-1726052400-1726059600@northside.site.findly.com
SUMMARY:Registered Clinical Dietitian
DESCRIPTION:Registered Clinical Dietitian\n\n\n\n\n\nFor a balanced\, healthy career \nLOOK TO NORTHSIDE \nVirtual Hiring Event \nSept. 11th | 11:00 a.m. – 1:00 p.m. \nThe right nutritional guidance is vital for positive patient outcomes\, and your passion and expertise as a Registered Clinical Dietitian will make all the difference at Northside Hospital. \nJoin us and collaborate with other exceptional clinicians to develop nutritional assessments and plans that support the healing process. You’ll enjoy great perks like a consistent Monday through Friday schedule with rotating weekends as well as an excellent retirement and pension plan. \n\nRSVP Today
URL:https://northside.site.findly.com/event/registered-clinical-dietitian/
CATEGORIES:Nurse Events 2
END:VEVENT
BEGIN:VEVENT
DTSTART;TZID=UTC:20240909T160000
DTEND;TZID=UTC:20240909T190000
DTSTAMP:20260426T025126
CREATED:20240809T202738Z
LAST-MODIFIED:20240809T202826Z
UID:19241-1725897600-1725908400@northside.site.findly.com
SUMMARY:Respiratory Therapy Hiring Event
DESCRIPTION:Respiratory Therapy Hiring Event\n\n\n\n\n\nMonday\, September 9th | 4:00 p.m.– 7:00 p.m. \nRespiratory Therapists\, join us for an in-person hiring event on September 9th and find out more about rewarding roles with Northside. We have day shift roles available at our Atlanta and Gwinnett campuses. \n\nInterview with our team at the event! Learn more and RSVP now.
URL:https://northside.site.findly.com/event/respiratory-therapy-hiring-event/
CATEGORIES:Nurse Events 1
END:VEVENT
BEGIN:VEVENT
DTSTART;TZID=UTC:20240906T130000
DTEND;TZID=UTC:20240906T170000
DTSTAMP:20260426T025126
CREATED:20240902T060615Z
LAST-MODIFIED:20240902T060615Z
UID:19270-1725627600-1725642000@northside.site.findly.com
SUMMARY:Gwinnett Acute Care Residency Hiring Event
DESCRIPTION:Join us at our Gwinnett Acute Care Residency Hiring Event\n\n\n\n\n\nTo build your nursing career \nLOOK TO NORTHSIDE \nFriday\, Sept. 6th | 1:00 p.m. – 5:00 p.m. \n665 Duluth Hwy\, Suite 101 \nLawrenceville\, GA 30046 \nJoin us and explore career opportunities for RN Residents in Acute Care at Northside Hospital’s Gwinnett campus! We welcome new grad RNs\, soon-to-graduate RNs\, and RNs looking to change specialties. You’ll enhance your clinical competencies as you care for a diverse patient population. \nAs a member of our exceptional team\, you can look forward to: \n\nA positive\, supportive work environment\nOpportunities for growth\nExcellent benefits\, including an active pension plan\nFamily-building support through Progyny’s fertility\, surrogacy\, and adoption benefits\nChild\, elder\, and pet care through Bright Horizons and SitterCity\n\nExperience our rewarding and empowering workplace culture that inspires healthcare excellence. Don’t miss the opportunity to interview with our team! \n\nRSVP Today
URL:https://northside.site.findly.com/event/gwinnett-acute-care-residency-hiring-event/
CATEGORIES:Nurse Events 2
END:VEVENT
BEGIN:VEVENT
DTSTART;TZID=UTC:20240829T163000
DTEND;TZID=UTC:20240829T190000
DTSTAMP:20260426T025126
CREATED:20240726T073658Z
LAST-MODIFIED:20240814T111215Z
UID:19178-1724949000-1724958000@northside.site.findly.com
SUMMARY:Gwinnett GI Interview Event
DESCRIPTION:Gwinnett GI Interview Event\n\n\n\n\n\nThursday\, August 29th\n4:30 – 7:00 p.m. \nJoin us at our hiring event to learn about our GI Service line! We offer leading-edge technologies and high-tech facilities to provide GI\, Interventional GI\, Pulmonary\, and Interventional Pulmonary procedures to our patients. Don’t miss this opportunity to join our dynamic team! We have roles for RNs\, GI Techs\, and Interventional GI Techs at our Gwinnett campus. \nLearn more about our career opportunities and how you can grow personally and professionally as part of our team. Interviews will be conducted and offers made on the spot. \n\nRSVP Today
URL:https://northside.site.findly.com/event/gwinnett-gi-interview-event/
CATEGORIES:Non-Clinical
END:VEVENT
BEGIN:VEVENT
DTSTART;TZID=UTC:20240829T080000
DTEND;TZID=UTC:20240829T120000
DTSTAMP:20260426T025126
CREATED:20240717T050746Z
LAST-MODIFIED:20240717T050746Z
UID:19132-1724918400-1724932800@northside.site.findly.com
SUMMARY:Cherokee All Specialty Interview Event
DESCRIPTION:Cherokee All Specialty Interview Event\n\n\n\n\n\nThursday\, August 29th | 8:00 a.m. – 12:00 p.m. \nJoin us and explore clinical and non-clinical roles with Northside Hospital\, a one-of-a-kind healthcare system. Be part of our culture of caring and learn what makes Northside special. \nWhether you’re seeking a clinical or non-clinical position\, we have opportunities tailored to your goals. Join us as we pave the way for excellence in healthcare and empower our team to lead and thrive in their careers. We’ll be conducting interviews and making offers at the event! \nLearn more about our available roles and RSVP today. \n\nRSVP today.
URL:https://northside.site.findly.com/event/cherokee-all-specialty-interview-event/
CATEGORIES:Nurse Events 1
END:VEVENT
BEGIN:VEVENT
DTSTART;TZID=UTC:20240829T073000
DTEND;TZID=UTC:20240829T100000
DTSTAMP:20260426T025126
CREATED:20240726T174025Z
LAST-MODIFIED:20240726T174132Z
UID:19192-1724916600-1724925600@northside.site.findly.com
SUMMARY:Duluth ED/ICU/IMCU RN/Tech Hiring Event
DESCRIPTION:Duluth ED/ICU/IMCU RN/Tech Hiring Event\n\n\n\n\n\nThursday\, August 29th\n7:30 – 10:00 a.m.  \nJoin us for breakfast at our Hiring Event and explore rewarding nursing and tech roles for our Northside Hospital Duluth campus! We look forward to meeting you and sharing our commitment to healthcare excellence. \nDon’t miss the chance to interview with our team! \nRSVP Today
URL:https://northside.site.findly.com/event/duluth-ed-icu-imcu-rn-tech-hiring-event/
CATEGORIES:Non-Clinical
END:VEVENT
BEGIN:VEVENT
DTSTART;TZID=UTC:20240826T093000
DTEND;TZID=UTC:20240826T123000
DTSTAMP:20260426T025126
CREATED:20240726T035748Z
LAST-MODIFIED:20240726T074811Z
UID:19173-1724664600-1724675400@northside.site.findly.com
SUMMARY:Forsyth Women’s Services Hiring Event
DESCRIPTION:Forsyth Women’s Services Hiring Event\n\n\n\n\n\nMonday\, August 26th | 9:30 a.m. – 12:30 p.m. \nIf you’re an RN with L&D\, Mother/Baby\, or NICU experience\, join us for our Women’s Services Hiring Event. We’d love to meet you and tell you about rewarding opportunities available at Northside Forsyth\, where you’ll enjoy outstanding growth potential. \nDon’t miss this chance to interview with our team! Learn about careers with Northside and our generous benefits. RSVP today. \n\nRSVP today.
URL:https://northside.site.findly.com/event/forsyth-womens-services-hiring-event/
CATEGORIES:Nurse Events 4
END:VEVENT
BEGIN:VEVENT
DTSTART;TZID=UTC:20240822T070000
DTEND;TZID=UTC:20240822T100000
DTSTAMP:20260426T025126
CREATED:20240726T074153Z
LAST-MODIFIED:20240726T074153Z
UID:19183-1724310000-1724320800@northside.site.findly.com
SUMMARY:Coffee & Careers Acute Care Hiring Event
DESCRIPTION:Coffee & Careers Acute Care Hiring Event\n\n\n\n\n\nThursday\, August 22nd\n7:00 – 10:00 a.m.  \nJoin us and explore career opportunities with Northside Hospital at our Gwinnett and Duluth campuses! We’re seeking Acute Care RNs\, RN Leadership\, LPNs\, and PCTs (CNAs). You can learn from a wide range of patient types and gain invaluable career experience. \nOur rewarding and empowering workplace culture inspires healthcare excellence and personal and professional growth. Join us for a cup of coffee and interview with our team – we’ll be making offers on the spot. \nRSVP Today
URL:https://northside.site.findly.com/event/coffee-careers-acute-care-hiring-event-2/
CATEGORIES:Nurse Events 3
END:VEVENT
BEGIN:VEVENT
DTSTART;TZID=UTC:20240814T150000
DTEND;TZID=UTC:20240814T183000
DTSTAMP:20260426T025126
CREATED:20240703T092442Z
LAST-MODIFIED:20240703T092442Z
UID:19089-1723647600-1723660200@northside.site.findly.com
SUMMARY:Physician Practice Hiring Event
DESCRIPTION:Physician Practice Hiring Event\n\n\n\n\n\nWednesday\, August 14th | 3:00 p.m.– 6:30 p.m.  \nClinical Medical Assistants and Schedulers\, join us for our Physician Practice Hiring Event! We have career opportunities in Canton\, Kennesaw\, and Woodstock. Don’t miss this chance to learn about careers with Northside and our generous benefits. \nFind out more about career opportunities with Northside physician practices.  \n\nRSVP today.
URL:https://northside.site.findly.com/event/physician-practice-hiring-event-2/
CATEGORIES:Nurse Events 2
END:VEVENT
BEGIN:VEVENT
DTSTART;TZID=UTC:20240813T170000
DTEND;TZID=UTC:20240813T193000
DTSTAMP:20260426T025126
CREATED:20240725T171103Z
LAST-MODIFIED:20240726T073334Z
UID:19170-1723568400-1723577400@northside.site.findly.com
SUMMARY:Cardiology APP\, Cath Lab/EP RN & Registered Cardiac Sonographer Hiring Event
DESCRIPTION:Cardiology APP\, Cath Lab/EP RN & Registered Cardiac Sonographer Hiring Event\n\n\n\n\n\nTuesday\, Aug. 13th\n5:00 p.m. – 7:30 p.m. \nJoin us for our Cardiology APP and Cath Lab/EP RN Hiring Event! We have exciting career opportunities for Nurse Practitioners/Physician Assistants\, Registered Cardiac Sonographers\, and RNs (Cardiology\, Cath Lab\, Electrophysiology Lab). \n\nApply Today
URL:https://northside.site.findly.com/event/cardiology-app-cath-lab-ep-rn-registered-cardiac-sonographer-hiring-event/
CATEGORIES:Allied Events
END:VEVENT
BEGIN:VEVENT
DTSTART;TZID=UTC:20240809T113000
DTEND;TZID=UTC:20240809T140000
DTSTAMP:20260426T025126
CREATED:20240710T060316Z
LAST-MODIFIED:20240726T074552Z
UID:19121-1723203000-1723212000@northside.site.findly.com
SUMMARY:Cherokee NICU RN Virtual Hiring Event
DESCRIPTION:Cherokee NICU RN Virtual Hiring Event\n\n\n\n\n\nFriday\, August 9th | 11:30 a.m. – 2:00 p.m.  \nNorthside is a national leader in maternity and newborn services\, and the babies in our NICU receive the specialized\, individualized care they deserve as we provide compassionate support for their families. \nWe offer flexible scheduling and rotating weekends – no on-call scheduling required. You’ll also enjoy an excellent retirement and pension plan. \nIf you have a year or more of NICU RN experience\, don’t pass up this chance to interview with our Northside team and learn about our comprehensive benefits.  \n\nRSVP today!
URL:https://northside.site.findly.com/event/cherokee-nicu-rn-virtual-hiring-event-2/
CATEGORIES:Nurse Events 2
END:VEVENT
BEGIN:VEVENT
DTSTART;TZID=UTC:20240808T163000
DTEND;TZID=UTC:20240808T200000
DTSTAMP:20260426T025126
CREATED:20240725T170605Z
LAST-MODIFIED:20240726T073246Z
UID:19167-1723134600-1723147200@northside.site.findly.com
SUMMARY:Cardiology APP\, Cath Lab/EP RN & Sonographer Hiring Event
DESCRIPTION:Cardiology APP\, Cath Lab/EP RN & Sonographer Hiring Event\n\n\n\n\n\nThursday\, Aug. 8th\n4:30 p.m. – 7:00 p.m. \nJoin us for our Cardiology APP\, Cath Lab/EP RN and Cardiac Sonographer Hiring Event! We have exciting career opportunities for Nurse Practitioners/Physician Assistants\, Registered Cardiac Sonographers\, and RNs (Cardiology\, Cath Lab\, Electrophysiology Lab\, Device Clinic). \n\nApply Today
URL:https://northside.site.findly.com/event/cardiology-app-cath-lab-ep-rn-sonographer-hiring-event/
CATEGORIES:Non-Clinical
END:VEVENT
BEGIN:VEVENT
DTSTART;TZID=UTC:20240724T160000
DTEND;TZID=UTC:20240724T190000
DTSTAMP:20260426T025126
CREATED:20240708T150110Z
LAST-MODIFIED:20240708T150216Z
UID:19102-1721836800-1721847600@northside.site.findly.com
SUMMARY:Surgical Services Hiring Event
DESCRIPTION:Surgical Services Hiring Event\n\n\n\n\n\nWednesday\, July 24th | 4:00 p.m.– 7:00 p.m. \nJoin us and explore empowering\, rewarding career opportunities for Surgical Techs\, Registered Nurses\, Instrument Techs\, and Anesthesia Techs at our Atlanta\, Cherokee\, and Forsyth locations\, where you’ll work alongside a talented and dedicated surgical staff. \nAs part of Northside Hospital’s family\, you’ll be eligible for our competitive benefits\, including pension plans and competitive pay\, because we’re just as serious about caring for our people as we are about caring for our patients. Join a one-of-a-kind healthcare system where you can grow and thrive. \n\nRSVP today.
URL:https://northside.site.findly.com/event/surgical-services-hiring-event-5/
CATEGORIES:Nurse Events 2
END:VEVENT
BEGIN:VEVENT
DTSTART;VALUE=DATE:20240722
DTEND;VALUE=DATE:20240725
DTSTAMP:20260426T025126
CREATED:20240517T192846Z
LAST-MODIFIED:20240606T185513Z
UID:18507-1721606400-1721865599@northside.site.findly.com
SUMMARY:Nurse Extern Excellence Program Event
DESCRIPTION:Nurse Extern Excellence Program Event\n\n\n\n\n\nMonday\, July 22\, to Wednesday\, July 24\, 2024 \nJoin us for an exciting three-day event that will give you the exclusive opportunity to tour the campus of your choice! Our event is open to all current nursing students\, including those who will start nursing school in Fall 2024. \nEVENT HIGHLIGHTS \n· Program Road Map/Overview from our nurse leaders\n· Q&A with current nurse externs and nurse residents\n· Braves game Private Reception with current externs\, nurses\, and mentors\n· Guaranteed Senior Practicum and Nurse Extern positions\n· Early Nurse Residency offers\n· Free parking\, Northside swag and food are also provided! \nTHE NORTHSIDE ADVANTAGES \n· State-of-the-art environment\n· Commitment to positive work/life balance\n· Strong local/national reputation for excellence\n· Highly competitive compensation packages\n· Pension plan and 403b retirement plan with employer match\n· Tuition and certification reimbursement\n· Continuing education and ongoing growth opportunities\n· Loan forgiveness program\n· And much more! \n\nRSVP by July 15th!
URL:https://northside.site.findly.com/event/nurse-extern-excellence-program-event/
CATEGORIES:Nurse Events 2
END:VEVENT
BEGIN:VEVENT
DTSTART;TZID=UTC:20240718T163000
DTEND;TZID=UTC:20240718T190000
DTSTAMP:20260426T025126
CREATED:20240619T123241Z
LAST-MODIFIED:20240619T123241Z
UID:18921-1721320200-1721329200@northside.site.findly.com
SUMMARY:Forsyth Acute Care Hiring Event
DESCRIPTION:Forsyth Acute Care Hiring Event\n\n\n\n\n\nThursday\, July 18th\n4:30 p.m. – 7:00 p.m. \nJoin us for our Hiring Event on July 18th and explore exciting opportunities in Acute Care at our Forsyth location. You’ll gain experience caring for a diverse patient population as you grow personally and professionally. \n\nRSVP Today
URL:https://northside.site.findly.com/event/forsyth-acute-care-hiring-event/
CATEGORIES:Nurse Events 5
END:VEVENT
BEGIN:VEVENT
DTSTART;TZID=UTC:20240718T160000
DTEND;TZID=UTC:20240718T190000
DTSTAMP:20260426T025126
CREATED:20240701T065710Z
LAST-MODIFIED:20240701T065758Z
UID:19026-1721318400-1721329200@northside.site.findly.com
SUMMARY:Gwinnett Radiology Hiring Event
DESCRIPTION:Gwinnett Radiology Hiring Event\n\n\n\n\n\nThursday\, July 18th | 4:00 p.m. – 7:00 p.m. \nJoin us at our upcoming Radiology Hiring Event and explore rewarding Radiology roles at our Gwinnett and Duluth locations. Find out how you can cross-train across different modalities and grow as we do. We’ll also have on-the-spot interviews and job offers! \n Learn more about exciting career opportunities with Northside. RSVP today! \n\nRSVP today!
URL:https://northside.site.findly.com/event/gwinnett-radiology-hiring-event/
CATEGORIES:Nurse Events 1
END:VEVENT
BEGIN:VEVENT
DTSTART;TZID=UTC:20240717T163000
DTEND;TZID=UTC:20240717T190000
DTSTAMP:20260426T025126
CREATED:20240708T183610Z
LAST-MODIFIED:20240708T183610Z
UID:19108-1721233800-1721242800@northside.site.findly.com
SUMMARY:Northside GI Lab Hiring Event
DESCRIPTION:Northside GI Lab Hiring Event\n\n\n\n\n\nWednesday\, July 17th | 4:30 – 7:00 p.m. \nRNs\, GI Lab Techs\, and Interventional GI Techs\, join us at our Hiring Event! Northside’s Atlanta\, Roswell\, Midtown\, and Alpharetta GI Lab teams are ready to meet with you. Grow in your career as part of our team. \nLearn more about our opportunities\, which come with flexible schedules and rotating weekends. Interviews will be conducted and offers made on the spot. \n\nRSVP today.
URL:https://northside.site.findly.com/event/northside-gi-lab-hiring-event/
CATEGORIES:Nurse Events 3
END:VEVENT
BEGIN:VEVENT
DTSTART;TZID=UTC:20240716T160000
DTEND;TZID=UTC:20240716T190000
DTSTAMP:20260426T025126
CREATED:20240531T211402Z
LAST-MODIFIED:20240626T104902Z
UID:18542-1721145600-1721156400@northside.site.findly.com
SUMMARY:Surgical Services Hiring Event
DESCRIPTION:Surgical Services Hiring Event\n\n\n\n\n\nTuesday\, July 16th\n4:00 p.m.– 7:00 p.m. \nLocal Republic\n139 N Perry St.\nLawrenceville\, GA 30046 \nJoin us and explore empowering\, rewarding career opportunities for Surgical Techs\, Registered Nurses\, Instrument Techs\, and Anesthesia Techs at our Duluth and Gwinnett locations\, where you’ll work alongside a talented and dedicated surgical staff. \n\nRSVP Today
URL:https://northside.site.findly.com/event/surgical-services-hiring-event-4/
CATEGORIES:Nurse Events 4
END:VEVENT
BEGIN:VEVENT
DTSTART;TZID=UTC:20240711T113000
DTEND;TZID=UTC:20240711T133000
DTSTAMP:20260426T025126
CREATED:20240619T082516Z
LAST-MODIFIED:20240624T102713Z
UID:18917-1720697400-1720704600@northside.site.findly.com
SUMMARY:Physician Practice Rad Tech Virtual Hiring Event
DESCRIPTION:Physician Practice Rad Tech Virtual Hiring Event\n\n\n\n\n\nThursday\, July 11th @ 11:30 a.m. – 1:30 p.m. \nRadiologic Technologists\, join us at our upcoming Virtual Hiring Event and find out about rewarding Radiology roles at our Physician Practices. \nNew grads are welcome! You won’t want to miss this event\, where you can learn more about exciting career opportunities and comprehensive benefits with Northside! \n\nRSVP Now
URL:https://northside.site.findly.com/event/physician-practice-rad-tech-virtual-hiring-event/
CATEGORIES:Allied Events
END:VEVENT
BEGIN:VEVENT
DTSTART;TZID=UTC:20240709T090000
DTEND;TZID=UTC:20240709T143000
DTSTAMP:20260426T025126
CREATED:20240628T082822Z
LAST-MODIFIED:20240628T083024Z
UID:19013-1720515600-1720535400@northside.site.findly.com
SUMMARY:Atlanta Acute Care RN Residency Hiring Event
DESCRIPTION:Atlanta Acute Care RN Residency Hiring Event\n\n\n\n\n\nTuesday\, July 9th @ 9:00 a.m.– 2:30 p.m. \nJoin us for our Acute Care Hiring Event! We have career opportunities for RN Residents at our Atlanta location\, and day and night shifts are available. Don’t miss this chance to learn about careers with Northside Hospital and our generous benefits. \n\nRSVP by July 8th!
URL:https://northside.site.findly.com/event/atlanta-acute-care-rn-residency-hiring-event/
CATEGORIES:Nurse Events 1
END:VEVENT
BEGIN:VEVENT
DTSTART;TZID=UTC:20240627T173000
DTEND;TZID=UTC:20240627T200000
DTSTAMP:20260426T025126
CREATED:20240625T172440Z
LAST-MODIFIED:20240625T172440Z
UID:18948-1719509400-1719518400@northside.site.findly.com
SUMMARY:Acute Cardiology and ED Hiring Event
DESCRIPTION:Acute Cardiology and ED Hiring Event\n\n\n\n\n\nThursday\, June 27th \n5:30p.m. – 8:00 p.m. \nJoin us for our Acute Cardiology and ED Hiring Event! We’d love to meet you and tell you about rewarding Acute Cardiology and ED opportunities at our Atlanta location. \nInterview with our team at the event and learn more about the culture of caring we’ve built at Northside Hospital. \n\nRSVP Today!
URL:https://northside.site.findly.com/event/acute-cardiology-and-ed-hiring-event/
CATEGORIES:Nurse Events 1
END:VEVENT
BEGIN:VEVENT
DTSTART;TZID=UTC:20240625T140000
DTEND;TZID=UTC:20240625T183000
DTSTAMP:20260426T025126
CREATED:20240606T185103Z
LAST-MODIFIED:20240607T114723Z
UID:18674-1719324000-1719340200@northside.site.findly.com
SUMMARY:Physician Practice Hiring Event
DESCRIPTION:Physician Practice Hiring Event\n\n\n\n\n\nTuesday\, June 25th @ 2:00 p.m.– 6:30 p.m. \nWe’re inviting Medical Assistants and Schedulers to join us for our Physician Practice Hiring Event! You can learn all about empowering\, rewarding career opportunities at our physician practices in the Atlanta area — including Sandy Springs\, Marietta\, Brookhaven\, Buckhead\, Midtown\, and more! \n\nJoin a one-of-a-kind healthcare system where you can grow and thrive. RSVP today!
URL:https://northside.site.findly.com/event/physician-practice-hiring-event/
CATEGORIES:Nurse Events 6,Physician Practice 1
END:VEVENT
BEGIN:VEVENT
DTSTART;TZID=UTC:20240620T163000
DTEND;TZID=UTC:20240620T190000
DTSTAMP:20260426T025126
CREATED:20240602T082359Z
LAST-MODIFIED:20240603T211608Z
UID:18546-1718901000-1718910000@northside.site.findly.com
SUMMARY:Gwinnett GI Lab Expansion Event
DESCRIPTION:Gwinnett GI Lab Expansion Event\n\n\n\n\n\nThursday\, June 20th\n4:30 – 7:00 p.m. \nAttention all GI Lab RNs and GI Lab Techs! Join us for our Hiring Event on June 20th. Come tour our newly opened GI Lab and explore our renovated and expanded Northside Gwinnett Advanced Center for Pulmonary and Gastrointestinal Services! The department has been transformed into a state-of-the-art facility offering advanced interventional procedures\, including life-changing 3rd Space Procedures and Manometry. You can be part of an exciting period of growth for our team. \nInterviews will be conducted and offers will be made on the spot! \n\nYou won’t want to miss this chance to learn about careers with Northside and our comprehensive benefits. \nRSVP Today
URL:https://northside.site.findly.com/event/gwinnett-gi-lab-expansion-event/
CATEGORIES:Nurse Events 5
END:VEVENT
BEGIN:VEVENT
DTSTART;TZID=UTC:20240620T073000
DTEND;TZID=UTC:20240620T093000
DTSTAMP:20260426T025126
CREATED:20240604T123348Z
LAST-MODIFIED:20240604T123348Z
UID:18568-1718868600-1718875800@northside.site.findly.com
SUMMARY:Cardiology\, Critical Care & ED Hiring Event
DESCRIPTION:Cardiology\, Critical Care & ED Hiring Event\n\n\n\n\n\nTuesday\, June 20th @ 7:30am-9:30am \nCelebrate the start of summer with a new career at Atlanta’s premier health system. We’re hiring for RN\, NP/PA\, Paramedic\, Cardiac Sonographer and ED Manager openings on various shifts. Come mix and mingle with our recruiters for onsite interviews. We’ll tell you all about our jobs and benefits\, and answer your most important questions. \n\nLook to Northside for a rewarding and empowering workplace culture that inspires medical excellence. RSVP today.
URL:https://northside.site.findly.com/event/cardiology-critical-care-ed-hiring-event/
CATEGORIES:Nurse Events 1
END:VEVENT
BEGIN:VEVENT
DTSTART;TZID=UTC:20240620T070000
DTEND;TZID=UTC:20240620T100000
DTSTAMP:20260426T025126
CREATED:20240607T114103Z
LAST-MODIFIED:20240607T114228Z
UID:18721-1718866800-1718877600@northside.site.findly.com
SUMMARY:Coffee & Careers Acute Care Hiring Event
DESCRIPTION:Coffee & Careers Acute Care Hiring Event\n\n\n\n\n\nThursday\, June 20th\n7:00 a.m.– 10:00 a.m. \nWake up to a fresh outlook on your career at Northside Hospital\, Atlanta’s premier health system. We’re hiring for an all-new unit\, with opportunities for Nurse Leaders\, RNs\, LPNs\, and PCTs with CNA certification. Join us to learn about jobs \, benefits and everything else you want to know. \nOnsite Interviews and On-The-Spot Job Offers \n\nRSVP Today
URL:https://northside.site.findly.com/event/coffee-careers-acute-care-hiring-event/
CATEGORIES:Nurse Events 3
END:VEVENT
BEGIN:VEVENT
DTSTART;TZID=UTC:20240611T160000
DTEND;TZID=UTC:20240611T190000
DTSTAMP:20260426T025126
CREATED:20240605T082306Z
LAST-MODIFIED:20240605T082431Z
UID:18602-1718121600-1718132400@northside.site.findly.com
SUMMARY:Cancer Institute RN & LPN Hiring Event
DESCRIPTION:Cancer Institute RN & LPN Hiring Event\n\n\n\n\n\nTuesday\, June 11\n4 p.m. – 7 p.m. \nWe invite all experienced RNs and LPNs with at least one year of experience to join us for our Cancer Institute Hiring Event. We have opportunities in Inpatient Oncology\, Inpatient Bone Marrow Transplant\, Outpatient Infusion\, Clinical Research\, and Radiation Oncology. Various shifts are available. \n\nLearn more about our roles and RSVP Today
URL:https://northside.site.findly.com/event/cancer-institute-rn-lpn-hiring-event/
CATEGORIES:Nurse Events 4
END:VEVENT
BEGIN:VEVENT
DTSTART;TZID=UTC:20240606T073000
DTEND;TZID=UTC:20240606T093000
DTSTAMP:20260426T025126
CREATED:20240520T152813Z
LAST-MODIFIED:20240520T152921Z
UID:18523-1717659000-1717666200@northside.site.findly.com
SUMMARY:Career Opportunities for RNs\, RN Leadership\, and Techs
DESCRIPTION:Career Opportunities for RNs\, RN Leadership\, and Techs\n\n\n\n\n\nThursday\, June 6\n7:30 a.m. – 9:30 a.m. \nRNs\, RN Leadership\, and Techs\, experience personal and professional fulfilment as you help restore a positive quality of life for others at Northside Hospital. \n\nApply Now!
URL:https://northside.site.findly.com/event/career-opportunities-for-rns-rn-leadership-and-techs/
CATEGORIES:Nurse Events 6
END:VEVENT
BEGIN:VEVENT
DTSTART;TZID=UTC:20240605T110000
DTEND;TZID=UTC:20240605T130000
DTSTAMP:20260426T025126
CREATED:20240520T062328Z
LAST-MODIFIED:20240520T062418Z
UID:18516-1717585200-1717592400@northside.site.findly.com
SUMMARY:Registered Clinical Dietitian careers with Northside Hospital
DESCRIPTION:Registered Clinical Dietitian careers with Northside Hospital\n\n\n\n\n\n\nWednesday\, June 5 @11:00 a.m. – 1:00 p.m. \nServing all five hospitals\, you’ll collaborate with other exceptional clinicians to develop nutritional assessments and plans that support the healing process. You’ll enjoy great perks like a consistent Monday through Friday schedule with rotating weekends as well as an excellent retirement and pension plan.\n \nRSVP Today!
URL:https://northside.site.findly.com/event/registered-clinical-dietitian-careers-with-northside-hospital/
CATEGORIES:Nurse Events 1
END:VEVENT
BEGIN:VEVENT
DTSTART;TZID=UTC:20240530T130000
DTEND;TZID=UTC:20240530T170000
DTSTAMP:20260426T025126
CREATED:20240501T193741Z
LAST-MODIFIED:20240520T153126Z
UID:18473-1717074000-1717088400@northside.site.findly.com
SUMMARY:Gwinnett Acute Care RN Residency Hiring Event
DESCRIPTION:Gwinnett Acute Care RN Residency Hiring Event\n\n\n\n\n\nThursday\, May 30th\n1:00 p.m. – 5:00 p.m. \nRN Residents\, join us for our Hiring Event on May 30th and explore exciting opportunities in Acute Care at our Gwinnett location. At Northside\, we invest in you and your education by providing student loan repayment and tuition reimbursement! \nWe’ll conduct interviews at the event and make offers within 48 hours! Don’t miss this chance to meet with our Northside team. \n\nRSVP Today!
URL:https://northside.site.findly.com/event/gwinnett-acute-care-rn-residency-hiring-event/
CATEGORIES:Nurse Events 5
END:VEVENT
BEGIN:VEVENT
DTSTART;TZID=UTC:20240524T130000
DTEND;TZID=UTC:20240524T170000
DTSTAMP:20260426T025126
CREATED:20240509T153221Z
LAST-MODIFIED:20240520T153031Z
UID:18494-1716555600-1716570000@northside.site.findly.com
SUMMARY:Gwinnett Acute Care RN Residency Hiring Event
DESCRIPTION:Gwinnett Acute Care RN Residency Hiring Event\n\n\n\n\n\nFriday\, May 24th\n1:00 p.m. – 5:00 p.m. \nRN Residents\, join us for our Hiring Event on May 24th and explore exciting opportunities in Acute Care at our Gwinnett location. You’ll gain experience caring for a diverse patient population as you grow personally and professionally. \nWe’ll conduct interviews at the event and make offers within 48 hours! Don’t miss this chance to meet with our Northside team. \n\nRSVP Today!
URL:https://northside.site.findly.com/event/gwinnett-acute-care-rn-residency-hiring-event-2/
CATEGORIES:Nurse Events 3
END:VEVENT
END:VCALENDAR