BEGIN:VCALENDAR
VERSION:2.0
PRODID:-//Northside Hospital | Careers - ECPv6.15.12.2//NONSGML v1.0//EN
CALSCALE:GREGORIAN
METHOD:PUBLISH
X-ORIGINAL-URL:https://northside.site.findly.com
X-WR-CALDESC:Events for Northside Hospital | Careers
REFRESH-INTERVAL;VALUE=DURATION:PT1H
X-Robots-Tag:noindex
X-PUBLISHED-TTL:PT1H
BEGIN:VTIMEZONE
TZID:UTC
BEGIN:STANDARD
TZOFFSETFROM:+0000
TZOFFSETTO:+0000
TZNAME:UTC
DTSTART:20180101T000000
END:STANDARD
END:VTIMEZONE
BEGIN:VEVENT
DTSTART;TZID=UTC:20190725T160000
DTEND;TZID=UTC:20190725T190000
DTSTAMP:20260426T025829
CREATED:20190709T172100Z
LAST-MODIFIED:20190720T072720Z
UID:8101-1564070400-1564081200@northside.site.findly.com
SUMMARY:Northside Hospital | Surgical Services Recruiting Event
DESCRIPTION:Northside Hospital | Surgical Services Recruiting Event\n\n\n\n\n\nYou’ve Got The Talent\nNow Join The Team\nDiscover the Northside Difference \nAs a Surgical Services professional\, you’re always striving to be the best. Now\, you have an excellent opportunity to join the best by lending your skills to the elite team at Northside Hospital\, where we do 40\,500 surgeries every year – more than any other healthcare system in Georgia. \nIf you’re an experienced Surgical Tech\, an RN (Pre Op\, OR\, PACU)\, a Support or Instrument Technician or a Charge Preceptor RN\, we want to see you at our next Recruiting Event on Thursday\, July 25! \nNorthside Hospital | Surgical Services Recruiting Event\nGypsy Kitchen\n3035 Peachtree Rd. NE\nAtlanta\, GA 30305\nThursday July 25th\n4:00pm – 7:00pm\nComplimentary self-parking available\nEnjoy food and drinks while you meet with our Surgical Team leaders and hear directly about the incredible career paths now available\, which include both full- and part-time positions in the inpatient and outpatient settings. \nJoining the team here means working with some of the area’s top surgeons\, being part of the second-largest robotics-assisted surgery program in the country and experiencing the camaraderie that defines why we are the “Northside family.” \nIt also means getting some of the best benefits in the industry\, including: \n\nAn excellent 403b retirement plan with employer match\nFlexibility aimed at promoting work/life balance\nTuition reimbursement and loan forgiveness programs\nFully-funded pension plan\n\nSeeking nurses who specialize in: Progressive Cardiac Care\, Neuroscience\, LTAC\, Rehab\, GI Med/Surg\, General Surgical/Bariatric Surgery\, Orthopedics/Urology\, and General Medicine. \nDiscover a rewarding career with Northside Hospital\, one of the Best Places to Work by Glassdoor and Comparably. \nPlease RSVP to justine.thompson@northside.com or antwane.lee@northside.com
URL:https://northside.site.findly.com/event/northside-hospital-surgical-services-recruiting-event/
LOCATION:Gypsy Kitchen\, 3035 Peachtree Rd. NE\, Atlanta\, GA\, 30305\, United States
CATEGORIES:Nurse Events 4
END:VEVENT
END:VCALENDAR