BEGIN:VCALENDAR
VERSION:2.0
PRODID:-//Northside Hospital | Careers - ECPv6.15.12.2//NONSGML v1.0//EN
CALSCALE:GREGORIAN
METHOD:PUBLISH
X-ORIGINAL-URL:https://northside.site.findly.com
X-WR-CALDESC:Events for Northside Hospital | Careers
REFRESH-INTERVAL;VALUE=DURATION:PT1H
X-Robots-Tag:noindex
X-PUBLISHED-TTL:PT1H
BEGIN:VTIMEZONE
TZID:UTC
BEGIN:STANDARD
TZOFFSETFROM:+0000
TZOFFSETTO:+0000
TZNAME:UTC
DTSTART:20180101T000000
END:STANDARD
END:VTIMEZONE
BEGIN:VEVENT
DTSTART;TZID=UTC:20190727T093000
DTEND;TZID=UTC:20190727T120000
DTSTAMP:20260426T025405
CREATED:20190626T184324Z
LAST-MODIFIED:20190720T073017Z
UID:7874-1564219800-1564228800@northside.site.findly.com
SUMMARY:Northside Hospital | Medical Assistant Job Fair
DESCRIPTION:Northside Hospital | Medical Assistant Job Fair\n\n\n\n\n\nMedical Assistants – \n Amplify your True Talent  \nNorthside Hospital | Medical Assistant Job Fair \nNortheast Georgia Diagnostic Clinic \n1240 Jesse Jewell Parkway SE\, Suite 500\nGainesville\, GA 30501\nSaturday\, July 27th\, 2019\n9:30am – 12:00pm\nDiscover Northside \nAt Northside Hospital\, we provide a full range of care to thousands of patients every year. We are a leader\, trusted locally and recognized nationally for excellence. We diagnose and treat more new cancer cases than any other hospital in Georgia and deliver more babies than any other single community hospital in the United States. That means we have more opportunities for you to put your skills to work exactly where they can work best.  \nOn Saturday\, July 27th\, we’re hosting a Medical Assistant Job Fair. We’re looking for skilled medical assistants like you\, who bring an eye for crucial details and a talent for connecting with others. Get to know some of our hiring managers and recruiters over breakfast and learn more about our unmatched culture and benefits\, including: \n\nHighly competitive compensation packages\nExcellent 403b retirement plan with employer match\nCutting-edge facilities and equipment \nHighly competitive compensation packages\nTuition and certification reimbursement\nLoan forgiveness programs\n\nDiscover for yourself why Northside Hospital is among Comparably and Glassdoor’s Best Places to Work. Reserve your interview spot by connecting with Aspen Allen at Aspen.Allen@Northside.com or 404-303-3805.
URL:https://northside.site.findly.com/event/northside-hospital-medical-assistant-job-fair/
LOCATION:Northeast Georgia Diagnostic Clinic\, 1240 Jesse Jewell Parkway SE\, Suite 500\, Gainesville\, GA\, 30501\, United States
CATEGORIES:Nurse Events 1
END:VEVENT
END:VCALENDAR