BEGIN:VCALENDAR
VERSION:2.0
PRODID:-//Northside Hospital | Careers - ECPv6.15.12.2//NONSGML v1.0//EN
CALSCALE:GREGORIAN
METHOD:PUBLISH
X-WR-CALNAME:Northside Hospital | Careers
X-ORIGINAL-URL:https://northside.site.findly.com
X-WR-CALDESC:Events for Northside Hospital | Careers
REFRESH-INTERVAL;VALUE=DURATION:PT1H
X-Robots-Tag:noindex
X-PUBLISHED-TTL:PT1H
BEGIN:VTIMEZONE
TZID:UTC
BEGIN:STANDARD
TZOFFSETFROM:+0000
TZOFFSETTO:+0000
TZNAME:UTC
DTSTART:20200101T000000
END:STANDARD
END:VTIMEZONE
BEGIN:VTIMEZONE
TZID:UTC
BEGIN:STANDARD
TZOFFSETFROM:+0000
TZOFFSETTO:+0000
TZNAME:UTC
DTSTART:20180101T000000
END:STANDARD
END:VTIMEZONE
BEGIN:VEVENT
DTSTART;VALUE=DATE:20210812
DTEND;VALUE=DATE:20210813
DTSTAMP:20260426T011558
CREATED:20210804T054504Z
LAST-MODIFIED:20210804T104225Z
UID:11800-1628726400-1628812799@northside.site.findly.com
SUMMARY:RN Panel Interview Days for Med Surg/Acute Care Experienced Nurse Residency
DESCRIPTION:RN Panel Interview Days for Med Surg/Acute Care Experienced Nurse Residency\n\n\n\n\n\nOur Forsyth Campus is opening up a\nworld of options for your nursing career! \nRN Panel Interview Days for Med Surg/Acute Care Experienced Nurse Residency\nAugust 12\, 19 & 23\n8:00pm – 5:00pm\nForsyth Campus\n1200 Northside Forsyth Drive\, Cumming\, GA \nReady to take your nursing career in an exciting new direction? We’ve got the opportunity for you! At Northside Hospital. We’re offering an Experienced Med/Surg Nurse Residency program. It’s the chance for you to hone your skills while exploring the many exciting paths your nursing career can take with us. Join us and meet directly with hiring managers\, explore our Forsyth Campus\, learn about the Residency program and see the many ways you can join our skilled and compassionate nursing family. \nRSVP by emailing Kristy Daley at Kristy.Daley@Northside.com or apply online to requisition #120716.
URL:https://northside.site.findly.com/event/rn-panel-interview-days-for-med-surg-acute-care-experienced-nurse-residency/2021-08-12/
LOCATION:Northside Hospital Forsyth\, 1200 Northside Forsyth Drive\, Cumming\, GA\, 30041\, United States
CATEGORIES:Nurse Events 6
END:VEVENT
BEGIN:VEVENT
DTSTART;TZID=UTC:20200407T090000
DTEND;TZID=UTC:20200407T150000
DTSTAMP:20260426T011558
CREATED:20200312T131405Z
LAST-MODIFIED:20200312T131405Z
UID:9296-1586250000-1586271600@northside.site.findly.com
SUMMARY:Forsyth Experienced RN Walk-In Interview Days
DESCRIPTION:Experienced Oncology\, Med Surg\, ED\, ICU & Cardiac RNs – Grow with our Forsyth team\n\n\n\n\n\nJoin us on April 7th\, 14th\, 21st\, 28th or May 5th\, 12th for our Experienced RN Walk-In Interview Days. \nNorthside Hospital Forsyth continues to expand and add services to meet the ever-growing healthcare needs of Forsyth County and its surrounding communities. Our 304-bed hospital has more than 2\,500 physicians and 3\,000 employees. Northside is the only hospital in Georgia to be honored with a Glassdoor Employees’ Choice Award in 2020\, recognizing the Best Places to Work. You can join our momentum! \nNorthside Hospital Forsyth\nExperienced RN Walk-In Interview Days\nTuesday\, April 7th\, 14th\, 21st\, 28th & May 5th\, 12th\n9:00am – 3:00pm\nRSVP for event location/details \nWe are actively looking for RNs with experience in Oncology\, Med Surg\, Emergency\, ICU and Cardiac to grow with our Forsyth campus. Join us and meet with a recruiter and members of our nursing leadership team. Find out what makes the Northside Family unique\, including our: \n\nHighly competitive compensation packages\nExcellent 403b retirement plan with employer match\nTuition and certification reimbursement\nLoan forgiveness programs\nIn-state relocation benefits\n\nRSVP: Katie.Garrett@Northside.com or call 404-851-8781.
URL:https://northside.site.findly.com/event/forsyth-experienced-rn-walk-in-interview-days/
LOCATION:Northside Hospital Forsyth\, 1200 Northside Forsyth Drive\, Cumming\, GA\, 30041\, United States
CATEGORIES:Nurse Events 1
END:VEVENT
BEGIN:VEVENT
DTSTART;TZID=UTC:20190724T090000
DTEND;TZID=UTC:20190724T140000
DTSTAMP:20260426T011558
CREATED:20190722T180554Z
LAST-MODIFIED:20190830T235714Z
UID:8276-1563958800-1563976800@northside.site.findly.com
SUMMARY:Northside Hospital Forsyth | Med/Surg RN Walk-In Wednesday Interview Days
DESCRIPTION:Careers Over Coffee With Northside | Northside Hospital Cherokee\n\n\n\n\n\nLock in an interview for one of our full-time openings on any Wednesday from August 28th – September 25th. \nNorthside Hospital is so much more than just a hospital. Among all Georgia hospitals\, we perform the most robotic surgeries. Along with our clinical excellence\, we have been named one of the Best Places to Work by Glassdoor and Comparably. This is your opportunity to put your skills to work with our award-winning team. \nCareers Over Coffee With Northside | Northside Hospital Cherokee\nNorthside Hospital | Inpatient OR RN Interview Days \nEvery Wednesday from August 28th – September 25th \nRSVP to secure appt. time\nWe’re hiring OR nurses with 2+ years of experience in the operating room. Set up an interview with our surgical services recruiter on any Wednesday from August 28th – September 25th. Learn more about our full-time openings and our unparalleled culture and benefits\, including:  \n\nState-of-the-art facilities and equipment \nTuition and certification reimbursement \nLoan forgiveness programs \nHighly competitive compensation packages \nExcellent 403b retirement plan with employer match\n\nDiscover how you’re able to advance your career with a cutting-edge team. Discover Northside Hospital. \nTo secure your interview\, please 1) send your resume and contact information to AJ Lee at antwane.lee@northside.com OR 2) apply to job # 94838 at jobs.northside.com. Call 687-723-1194 with any questions.
URL:https://northside.site.findly.com/event/northside-hospital-forsyth-med-surg-rn-walk-in-wednesday-interview-days/2019-07-24/
LOCATION:Northside Hospital Forsyth\, 1200 Northside Forsyth Drive\, Cumming\, GA\, 30041\, United States
CATEGORIES:Nurse Events 5
END:VEVENT
BEGIN:VEVENT
DTSTART;TZID=UTC:20190716T090000
DTEND;TZID=UTC:20190716T140000
DTSTAMP:20260426T011558
CREATED:20190702T055238Z
LAST-MODIFIED:20190720T073403Z
UID:7975-1563267600-1563285600@northside.site.findly.com
SUMMARY:Northside Hospital | Cardiology Services Walk-In Interview Days
DESCRIPTION:Northside Hospital | Cardiology Services Walk-In Interview Days\n\n\n\n\n\nAt Georgia’s premier healthcare system\, we’re growing every day. Can you say the same about your career? Now\, our growth is creating great opportunities for anyone working in Cardiology Services! We have positions for experienced RNs – EP\, Device Clinic\, Cath Lab\, Cardiology practice and Clinical Staff – CV Techs\, Echo Techs\, Nuclear Med Techs\, Vascular Techs\, Device Techs and MA’s with Cardiology practice experience. Join us during one of our Walk-in Interview Days! \nTuesdays\, 9:00am – 2:00pm | Northside Forsyth\nJuly 16th – August 20th\n1200 Northside Forsyth Drive\, Cumming\, GA 30041 \nMeet with recruiter Michele Burch\, and learn why we’re consistently ranked a “Best Place to Work” and hear about the incredible benefits we offer\, which include: \n\nA service line that is committed to using the latest technology while offering educational and growth opportunities\nAn excellent 403b retirement plan with employer match\nLocal traveler program or relocation assistance availables\nHighly competitive salaries and comprehensive benefits\nTuition reimbursement and loan forgiveness programs\nFully-funded pension plan\n\nYour next step is a career with us. Find yourself at Northside! \nRSVP by sending your resume to nicole.hedrick@northside.com\, please indicate which location is best for you!
URL:https://northside.site.findly.com/event/northside-hospital-cardiology-services-walk-interview-days/2019-07-16/
LOCATION:Northside Hospital Forsyth\, 1200 Northside Forsyth Drive\, Cumming\, GA\, 30041\, United States
CATEGORIES:Nurse Events 3
END:VEVENT
BEGIN:VEVENT
DTSTART;TZID=UTC:20190710T160000
DTEND;TZID=UTC:20190710T190000
DTSTAMP:20260426T011558
CREATED:20190606T181218Z
LAST-MODIFIED:20190627T161230Z
UID:7576-1562774400-1562785200@northside.site.findly.com
SUMMARY:Northside Hospital Forsyth | Med/Surg RN Recruitment Event
DESCRIPTION:Northside Hospital Forsyth | Med/Surg RN Recruitment Event\n\n\n\n\nNorthside Hospital Forsyth | Med/Surg RN Recruitment Event\nCumming\n1400 Northside Forsyth Drive\nAtlanta\, GA.\nJuly 10\n4:00pm and 7:00pm\n\nYour Skills. Our Team. \nThe Perfect Match! \nDiscover Northside \nNorthside Hospital\, renowned for exceptional patient care since 1970\, continues to grow creating more opportunities for you to elevate your career! We’re looking for talented Med/Surg nurses like you to join the Northside Family. \nA career with us means working alongside the best colleagues in the business with a leadership team that empowers career advancement. \nThat’s just one of the reasons we are: \nRanked as a Best Place to Work by Glassdoor and Comparably \nRanked as a 2018-19 “Best Hospital” by U.S. News & World Report \nA winner of The Joint Commission’s Gold Seal of Approval for healthcare quality \nSwing by our recruitment event and check out Northside: \nNorthside Hospital Forsyth | Med/Surg RN Recruitment Event \nRSVP to Milan.Lafayette@Northside.com \nJoin us and enjoy refreshments as you meet and mingle with our leaders and team.. You’ll also hear more about our amazing benefits package\, which includes: \nAn excellent 403b retirement plan with employer match \nFlexibility aimed at promoting work/life balance \nHighly competitive salaries \nProfessional advancement via our Nursing Excellence Track (NEXT) program \nTuition reimbursement and loan forgiveness program \nMedical\, Dental and Vision coverage options to meet your needs \nYour Med/Surg skills will make an impact here. We’re looking forward to meeting you!
URL:https://northside.site.findly.com/event/find-new-home-med-surg-rn-skills/
LOCATION:Northside Hospital Forsyth\, 1200 Northside Forsyth Drive\, Cumming\, GA\, 30041\, United States
CATEGORIES:Nurse Events,Nurse Events 6
END:VEVENT
BEGIN:VEVENT
DTSTART;TZID=UTC:20190521T160000
DTEND;TZID=UTC:20190521T190000
DTSTAMP:20260426T011558
CREATED:20190514T033551Z
LAST-MODIFIED:20190514T042757Z
UID:7283-1558454400-1558465200@northside.site.findly.com
SUMMARY:Northside Hospital Forsyth Surgical Services Event
DESCRIPTION:Northside Hospital Forsyth Surgical Services Event\n\n\n\n\nNorthside Hospital Forsyth Surgical Services Event\nNorthside Hospital Forsyth\n1200 Northside Hospital Forsyth Drive\nBennett Center\, Building 1400\, Room A\nCumming\, GA 30041\nTuesday\, May 21\, 2019\n4pm – 7pm\n\nOnsite Interviews\, Refreshments & Tours! \nIf you are a Pre-Op\, OR or PACU RN\, Surgical Tech\, Instrument Tech or Clinical Care Associate\, unlock your exceptional side on the Northside Hospital Forsyth team!  \nNorthside Hospital\, renowned for exceptional patient care since 1970\, is growing again and creating opportunities for you to elevate your career! We’re opening a new surgical suite soon and looking for talented professionals like you. \n\nMeet our Surgical Services leadership team and Surgery staff\nTake a tour of our Surgical Services department\nLearn about our competitive compensation packages\nBring your resume and talk directly with our recruiters\n\nOur state-of-the-art Surgical Suite opens this Fall. Join us on May 21st and learn more about the career benefits of growing along with one of the nation’s elite health care teams! \nRSVP: AJ Lee – 404-851-8078 –antwane.lee@northside.com
URL:https://northside.site.findly.com/event/northside-hospital-forsyth-surgical-services-event/
LOCATION:Northside Hospital Forsyth\, 1200 Northside Forsyth Drive\, Cumming\, GA\, 30041\, United States
CATEGORIES:Nurse Events 3
END:VEVENT
BEGIN:VEVENT
DTSTART;TZID=UTC:20190420T093000
DTEND;TZID=UTC:20190420T120000
DTSTAMP:20260426T011558
CREATED:20190411T041541Z
LAST-MODIFIED:20190411T041616Z
UID:3748-1555752600-1555761600@northside.site.findly.com
SUMMARY:Medical Assistant Job Fair
DESCRIPTION:Medical Assistant Job Fair\n\n\n\n\nNorthside Hospital Forsyth | Medical Assistant Job Fair\nNorthside Forsyth Campus\n1200 Northside Forsyth Dr.\nCumming\, GA 30041\nSaturday\, April 20th\, 2019\n9:30am – 12:00pm\n\nMedical Assistants – Grow your TRUE Ability\nOn Saturday\, April 20th\, we’re hosting a Medical Assistant Job Fair. Come meet with our leaders\, interview with our recruiters\, and get a closer look at our unmatched culture and benefits\, including: \n\nHighly competitive compensation packages\nExcellent 403b retirement plan with employer match\nCutting-edge facilities and equipment\nTuition and certification reimbursement\nLoan forgiveness programs\n\nDevelop your career with one of Atlanta Business Chronicle’s Best Places to Work. Discover Northside Hospital Forsyth. \nPlease come to the event with your most up-to-date resume. \nRSVP to Kristy at Kristy.Daley@Northside.com or 404-300-2761.
URL:https://northside.site.findly.com/event/medical-assistant-job-fair/
LOCATION:Northside Hospital Forsyth\, 1200 Northside Forsyth Drive\, Cumming\, GA\, 30041\, United States
CATEGORIES:Nurse Events
END:VEVENT
END:VCALENDAR